BEGIN:VCALENDAR
VERSION:2.0
PRODID:-//CRAWLEY OLD GIRLS (COGS) - ECPv6.15.20//NONSGML v1.0//EN
CALSCALE:GREGORIAN
METHOD:PUBLISH
X-ORIGINAL-URL:https://crawley-cogs.co.uk
X-WR-CALDESC:Events for CRAWLEY OLD GIRLS (COGS)
REFRESH-INTERVAL;VALUE=DURATION:PT1H
X-Robots-Tag:noindex
X-PUBLISHED-TTL:PT1H
BEGIN:VTIMEZONE
TZID:UTC
BEGIN:STANDARD
TZOFFSETFROM:+0000
TZOFFSETTO:+0000
TZNAME:UTC
DTSTART:20160101T000000
END:STANDARD
END:VTIMEZONE
BEGIN:VEVENT
DTSTART;TZID=UTC:20180214T203000
DTEND;TZID=UTC:20180214T213000
DTSTAMP:20260421T161813
CREATED:20180320T230253Z
LAST-MODIFIED:20180320T230253Z
UID:1586-1518640200-1518643800@crawley-cogs.co.uk
SUMMARY:Advanced Session
DESCRIPTION:Share this:Tweet
URL:https://crawley-cogs.co.uk/event/advanced-session-4/
LOCATION:The People’s Pension Stadium\, Winfield Way\, Crawley\, RH10 9RX
END:VEVENT
BEGIN:VEVENT
DTSTART;TZID=UTC:20180214T193000
DTEND;TZID=UTC:20180214T203000
DTSTAMP:20260421T161813
CREATED:20180320T230218Z
LAST-MODIFIED:20180320T230218Z
UID:1584-1518636600-1518640200@crawley-cogs.co.uk
SUMMARY:Beginners' Session
DESCRIPTION:Share this:Tweet
URL:https://crawley-cogs.co.uk/event/beginners-session-31/
LOCATION:The People’s Pension Stadium\, Winfield Way\, Crawley\, RH10 9RX
END:VEVENT
BEGIN:VEVENT
DTSTART;TZID=UTC:20180212T080000
DTEND;TZID=UTC:20180212T170000
DTSTAMP:20260421T161813
CREATED:20180320T230116Z
LAST-MODIFIED:20180320T230116Z
UID:1581-1518422400-1518454800@crawley-cogs.co.uk
SUMMARY:EFL Trust 10th Anniversary Celebration
DESCRIPTION:Carol Bates and Amy Fazackerley were asked to attend the EFL Trust 10th Anniversary.  Carol was invited to talk about the COGS as 1 of 4 programmes which were being showcased for the 10th Anniversary Event. \nGuests included Shaun Harvey and Hayley McQueen\, who interviewed Carol. \nShare this:Tweet
URL:https://crawley-cogs.co.uk/event/efl-trust-10th-anniversary-celebration/
LOCATION:EFL House\, Preston
END:VEVENT
BEGIN:VEVENT
DTSTART;TZID=UTC:20180208T190000
DTEND;TZID=UTC:20180208T200000
DTSTAMP:20260421T161813
CREATED:20180320T225743Z
LAST-MODIFIED:20180320T225743Z
UID:1579-1518116400-1518120000@crawley-cogs.co.uk
SUMMARY:Intermediate Session
DESCRIPTION:Share this:Tweet
URL:https://crawley-cogs.co.uk/event/intermediate-session-26/
LOCATION:The People’s Pension Stadium\, Winfield Way\, Crawley\, RH10 9RX
END:VEVENT
BEGIN:VEVENT
DTSTART;TZID=UTC:20180207T203000
DTEND;TZID=UTC:20180207T213000
DTSTAMP:20260421T161813
CREATED:20180320T224625Z
LAST-MODIFIED:20180320T224625Z
UID:1577-1518035400-1518039000@crawley-cogs.co.uk
SUMMARY:Advanced Session
DESCRIPTION:Share this:Tweet
URL:https://crawley-cogs.co.uk/event/advanced-session-3/
LOCATION:The People’s Pension Stadium\, Winfield Way\, Crawley\, RH10 9RX
END:VEVENT
BEGIN:VEVENT
DTSTART;TZID=UTC:20180207T193000
DTEND;TZID=UTC:20180207T203000
DTSTAMP:20260421T161813
CREATED:20180320T224543Z
LAST-MODIFIED:20180320T224543Z
UID:1575-1518031800-1518035400@crawley-cogs.co.uk
SUMMARY:Beginners' Session
DESCRIPTION:Share this:Tweet
URL:https://crawley-cogs.co.uk/event/beginners-session-30/
LOCATION:The People’s Pension Stadium\, Winfield Way\, Crawley\, RH10 9RX
END:VEVENT
BEGIN:VEVENT
DTSTART;TZID=UTC:20180201T190000
DTEND;TZID=UTC:20180201T200000
DTSTAMP:20260421T161813
CREATED:20180320T224317Z
LAST-MODIFIED:20180320T224317Z
UID:1571-1517511600-1517515200@crawley-cogs.co.uk
SUMMARY:Intermediate Session
DESCRIPTION:Share this:Tweet
URL:https://crawley-cogs.co.uk/event/intermediate-session-25/
LOCATION:The People’s Pension Stadium\, Winfield Way\, Crawley\, RH10 9RX
END:VEVENT
BEGIN:VEVENT
DTSTART;TZID=UTC:20180131T203000
DTEND;TZID=UTC:20180131T213000
DTSTAMP:20260421T161813
CREATED:20180320T224149Z
LAST-MODIFIED:20180320T224149Z
UID:1569-1517430600-1517434200@crawley-cogs.co.uk
SUMMARY:Advanced Session
DESCRIPTION:Share this:Tweet
URL:https://crawley-cogs.co.uk/event/advanced-session-2/
LOCATION:The People’s Pension Stadium\, Winfield Way\, Crawley\, RH10 9RX
END:VEVENT
BEGIN:VEVENT
DTSTART;TZID=UTC:20180131T193000
DTEND;TZID=UTC:20180131T203000
DTSTAMP:20260421T161813
CREATED:20180320T224108Z
LAST-MODIFIED:20180320T224108Z
UID:1567-1517427000-1517430600@crawley-cogs.co.uk
SUMMARY:Beginners' Session
DESCRIPTION:Share this:Tweet
URL:https://crawley-cogs.co.uk/event/beginners-session-29/
LOCATION:The People’s Pension Stadium\, Winfield Way\, Crawley\, RH10 9RX
END:VEVENT
BEGIN:VEVENT
DTSTART;TZID=UTC:20180126T080000
DTEND;TZID=UTC:20180126T170000
DTSTAMP:20260421T161813
CREATED:20180320T223706Z
LAST-MODIFIED:20180320T223706Z
UID:1559-1516953600-1516986000@crawley-cogs.co.uk
SUMMARY:BBC Sport Visit - FA People's Cup - Manchester
DESCRIPTION:Carol Bates was asked to go to Manchester to help the FA & BBC Sport/BBC Get Inspired promote the FA People’s Cup.  Interviews with BBC DJ Nick Bright including a Facebook Live event were recorded. \nShare this:Tweet
URL:https://crawley-cogs.co.uk/event/bbc-sport-visit-fa-peoples-cup-manchester/
LOCATION:Media City UK\, Manchester
END:VEVENT
BEGIN:VEVENT
DTSTART;TZID=UTC:20180125T190000
DTEND;TZID=UTC:20180125T200000
DTSTAMP:20260421T161813
CREATED:20180320T224002Z
LAST-MODIFIED:20180320T224002Z
UID:1565-1516906800-1516910400@crawley-cogs.co.uk
SUMMARY:Intermediate Session
DESCRIPTION:Share this:Tweet
URL:https://crawley-cogs.co.uk/event/intermediate-session-24/
LOCATION:The People’s Pension Stadium\, Winfield Way\, Crawley\, RH10 9RX
END:VEVENT
BEGIN:VEVENT
DTSTART;TZID=UTC:20180124T203000
DTEND;TZID=UTC:20180124T213000
DTSTAMP:20260421T161813
CREATED:20180320T223838Z
LAST-MODIFIED:20180320T223838Z
UID:1563-1516825800-1516829400@crawley-cogs.co.uk
SUMMARY:Advanced Session
DESCRIPTION:Share this:Tweet
URL:https://crawley-cogs.co.uk/event/advanced-session/
LOCATION:The People’s Pension Stadium\, Winfield Way\, Crawley\, RH10 9RX
END:VEVENT
BEGIN:VEVENT
DTSTART;TZID=UTC:20180124T080000
DTEND;TZID=UTC:20180124T170000
DTSTAMP:20260421T161813
CREATED:20180320T223757Z
LAST-MODIFIED:20180320T223757Z
UID:1561-1516780800-1516813200@crawley-cogs.co.uk
SUMMARY:Beginners' Session
DESCRIPTION:Share this:Tweet
URL:https://crawley-cogs.co.uk/event/beginners-session-28/
LOCATION:The People’s Pension Stadium\, Winfield Way\, Crawley\, RH10 9RX
END:VEVENT
BEGIN:VEVENT
DTSTART;TZID=UTC:20180118T190000
DTEND;TZID=UTC:20180118T200000
DTSTAMP:20260421T161813
CREATED:20180320T223349Z
LAST-MODIFIED:20180320T223349Z
UID:1557-1516302000-1516305600@crawley-cogs.co.uk
SUMMARY:Intermediate Session
DESCRIPTION:Share this:Tweet
URL:https://crawley-cogs.co.uk/event/intermediate-session-23/
LOCATION:The People’s Pension Stadium\, Winfield Way\, Crawley\, RH10 9RX
END:VEVENT
BEGIN:VEVENT
DTSTART;TZID=UTC:20180117T203000
DTEND;TZID=UTC:20180117T213000
DTSTAMP:20260421T161813
CREATED:20180320T223250Z
LAST-MODIFIED:20180320T223250Z
UID:1555-1516221000-1516224600@crawley-cogs.co.uk
SUMMARY:Advanced Players' Session
DESCRIPTION:Share this:Tweet
URL:https://crawley-cogs.co.uk/event/advanced-players-session/
LOCATION:The People’s Pension Stadium\, Winfield Way\, Crawley\, RH10 9RX
END:VEVENT
BEGIN:VEVENT
DTSTART;TZID=UTC:20180117T193000
DTEND;TZID=UTC:20180117T203000
DTSTAMP:20260421T161813
CREATED:20180320T223153Z
LAST-MODIFIED:20180320T223153Z
UID:1553-1516217400-1516221000@crawley-cogs.co.uk
SUMMARY:Beginners' Session
DESCRIPTION:Share this:Tweet
URL:https://crawley-cogs.co.uk/event/beginners-session-27/
LOCATION:The People’s Pension Stadium\, Winfield Way\, Crawley\, RH10 9RX
END:VEVENT
BEGIN:VEVENT
DTSTART;TZID=UTC:20180113T080000
DTEND;TZID=UTC:20180113T170000
DTSTAMP:20260421T161813
CREATED:20180320T224452Z
LAST-MODIFIED:20180320T224452Z
UID:1573-1515830400-1515862800@crawley-cogs.co.uk
SUMMARY:Visit from Thura Win\, The FA.
DESCRIPTION:Share this:Tweet
URL:https://crawley-cogs.co.uk/event/visit-from-thura-win-the-fa/
LOCATION:The People’s Pension Stadium\, Winfield Way\, Crawley\, RH10 9RX
END:VEVENT
BEGIN:VEVENT
DTSTART;TZID=UTC:20180112T120000
DTEND;TZID=UTC:20180112T163000
DTSTAMP:20260421T161813
CREATED:20180106T000229Z
LAST-MODIFIED:20180106T000229Z
UID:1402-1515758400-1515774600@crawley-cogs.co.uk
SUMMARY:Specialist Coaching at St. George's Park
DESCRIPTION:Share this:Tweet
URL:https://crawley-cogs.co.uk/event/specialist-coaching-at-st-georges-park/
LOCATION:St. George’s Park\, Burton on Trent
END:VEVENT
BEGIN:VEVENT
DTSTART;TZID=UTC:20180111T190000
DTEND;TZID=UTC:20180111T200000
DTSTAMP:20260421T161813
CREATED:20180106T000038Z
LAST-MODIFIED:20180106T000038Z
UID:1400-1515697200-1515700800@crawley-cogs.co.uk
SUMMARY:Intermediate Session
DESCRIPTION:Share this:Tweet
URL:https://crawley-cogs.co.uk/event/intermediate-session-22/
LOCATION:The People’s Pension Stadium\, Winfield Way\, Crawley\, RH10 9RX
END:VEVENT
BEGIN:VEVENT
DTSTART;TZID=UTC:20180110T203000
DTEND;TZID=UTC:20180110T213000
DTSTAMP:20260421T161813
CREATED:20180105T235932Z
LAST-MODIFIED:20180105T235932Z
UID:1398-1515616200-1515619800@crawley-cogs.co.uk
SUMMARY:Experienced Players' Session
DESCRIPTION:Share this:Tweet
URL:https://crawley-cogs.co.uk/event/experienced-players-session-24/
LOCATION:The People’s Pension Stadium\, Winfield Way\, Crawley\, RH10 9RX
END:VEVENT
BEGIN:VEVENT
DTSTART;TZID=UTC:20180110T193000
DTEND;TZID=UTC:20180110T203000
DTSTAMP:20260421T161813
CREATED:20180105T235846Z
LAST-MODIFIED:20180105T235846Z
UID:1396-1515612600-1515616200@crawley-cogs.co.uk
SUMMARY:Beginners' Session
DESCRIPTION:Share this:Tweet
URL:https://crawley-cogs.co.uk/event/beginners-session-26/
LOCATION:The People’s Pension Stadium\, Winfield Way\, Crawley\, RH10 9RX
END:VEVENT
BEGIN:VEVENT
DTSTART;TZID=UTC:20180104T190000
DTEND;TZID=UTC:20180104T200000
DTSTAMP:20260421T161813
CREATED:20180105T235738Z
LAST-MODIFIED:20180105T235738Z
UID:1394-1515092400-1515096000@crawley-cogs.co.uk
SUMMARY:Intermediate Session
DESCRIPTION:Share this:Tweet
URL:https://crawley-cogs.co.uk/event/intermediate-session-21/
LOCATION:The People’s Pension Stadium\, Winfield Way\, Crawley\, RH10 9RX
END:VEVENT
BEGIN:VEVENT
DTSTART;TZID=UTC:20180103T203000
DTEND;TZID=UTC:20180103T213000
DTSTAMP:20260421T161813
CREATED:20180105T235652Z
LAST-MODIFIED:20180105T235652Z
UID:1392-1515011400-1515015000@crawley-cogs.co.uk
SUMMARY:Experienced Players' Session
DESCRIPTION:Share this:Tweet
URL:https://crawley-cogs.co.uk/event/experienced-players-session-23/
LOCATION:The People’s Pension Stadium\, Winfield Way\, Crawley\, RH10 9RX
END:VEVENT
BEGIN:VEVENT
DTSTART;TZID=UTC:20180103T193000
DTEND;TZID=UTC:20180103T203000
DTSTAMP:20260421T161813
CREATED:20180105T220624Z
LAST-MODIFIED:20180105T220624Z
UID:1390-1515007800-1515011400@crawley-cogs.co.uk
SUMMARY:Beginners' Session
DESCRIPTION:Share this:Tweet
URL:https://crawley-cogs.co.uk/event/beginners-session-25/
LOCATION:The People’s Pension Stadium\, Winfield Way\, Crawley\, RH10 9RX
END:VEVENT
BEGIN:VEVENT
DTSTART;TZID=UTC:20171221T190000
DTEND;TZID=UTC:20171221T200000
DTSTAMP:20260421T161813
CREATED:20180105T150157Z
LAST-MODIFIED:20180105T150157Z
UID:1379-1513882800-1513886400@crawley-cogs.co.uk
SUMMARY:"Coats for Christmas" Crawley Open House Collection
DESCRIPTION:Share this:Tweet
URL:https://crawley-cogs.co.uk/event/coats-for-christmas-crawley-open-house-collection/
LOCATION:The People’s Pension Stadium\, Winfield Way\, Crawley\, RH10 9RX
END:VEVENT
BEGIN:VEVENT
DTSTART;TZID=UTC:20171221T190000
DTEND;TZID=UTC:20171221T200000
DTSTAMP:20260421T161813
CREATED:20180105T150051Z
LAST-MODIFIED:20180105T150051Z
UID:1377-1513882800-1513886400@crawley-cogs.co.uk
SUMMARY:Intermediate Session
DESCRIPTION:Share this:Tweet
URL:https://crawley-cogs.co.uk/event/intermediate-session-19/
LOCATION:The People’s Pension Stadium\, Winfield Way\, Crawley\, RH10 9RX
END:VEVENT
BEGIN:VEVENT
DTSTART;TZID=UTC:20171220T203000
DTEND;TZID=UTC:20171220T213000
DTSTAMP:20260421T161813
CREATED:20180105T150008Z
LAST-MODIFIED:20180105T150008Z
UID:1375-1513801800-1513805400@crawley-cogs.co.uk
SUMMARY:Experienced Players' Session
DESCRIPTION:Share this:Tweet
URL:https://crawley-cogs.co.uk/event/experienced-players-session-21/
LOCATION:The People’s Pension Stadium\, Winfield Way\, Crawley\, RH10 9RX
END:VEVENT
BEGIN:VEVENT
DTSTART;TZID=UTC:20171220T193000
DTEND;TZID=UTC:20171220T203000
DTSTAMP:20260421T161813
CREATED:20180105T145920Z
LAST-MODIFIED:20180105T145920Z
UID:1373-1513798200-1513801800@crawley-cogs.co.uk
SUMMARY:Beginners' Session
DESCRIPTION:Share this:Tweet
URL:https://crawley-cogs.co.uk/event/beginners-session-23/
LOCATION:The People’s Pension Stadium\, Winfield Way\, Crawley\, RH10 9RX
END:VEVENT
BEGIN:VEVENT
DTSTART;TZID=UTC:20171216T120000
DTEND;TZID=UTC:20171216T150000
DTSTAMP:20260421T161813
CREATED:20180105T150529Z
LAST-MODIFIED:20180105T150529Z
UID:1387-1513425600-1513436400@crawley-cogs.co.uk
SUMMARY:COPA Futsal Fever Tournament
DESCRIPTION:Share this:Tweet
URL:https://crawley-cogs.co.uk/event/copa-futsal-fever-tournament/
LOCATION:Dorking Sports Centre\, Reigate Road
END:VEVENT
BEGIN:VEVENT
DTSTART;TZID=UTC:20171214T190000
DTEND;TZID=UTC:20171214T200000
DTSTAMP:20260421T161813
CREATED:20180105T150431Z
LAST-MODIFIED:20180105T150431Z
UID:1385-1513278000-1513281600@crawley-cogs.co.uk
SUMMARY:Intermediate Session
DESCRIPTION:Share this:Tweet
URL:https://crawley-cogs.co.uk/event/intermediate-session-20/
LOCATION:The People’s Pension Stadium\, Winfield Way\, Crawley\, RH10 9RX
END:VEVENT
END:VCALENDAR