BEGIN:VCALENDAR
VERSION:2.0
PRODID:-//CRAWLEY OLD GIRLS (COGS) - ECPv6.15.20//NONSGML v1.0//EN
CALSCALE:GREGORIAN
METHOD:PUBLISH
X-WR-CALNAME:CRAWLEY OLD GIRLS (COGS)
X-ORIGINAL-URL:https://crawley-cogs.co.uk
X-WR-CALDESC:Events for CRAWLEY OLD GIRLS (COGS)
REFRESH-INTERVAL;VALUE=DURATION:PT1H
X-Robots-Tag:noindex
X-PUBLISHED-TTL:PT1H
BEGIN:VTIMEZONE
TZID:UTC
BEGIN:STANDARD
TZOFFSETFROM:+0000
TZOFFSETTO:+0000
TZNAME:UTC
DTSTART:20160101T000000
END:STANDARD
END:VTIMEZONE
BEGIN:VEVENT
DTSTART;TZID=UTC:20171129T193000
DTEND;TZID=UTC:20171129T203000
DTSTAMP:20260421T225138
CREATED:20171110T222908Z
LAST-MODIFIED:20171110T222908Z
UID:1262-1511983800-1511987400@crawley-cogs.co.uk
SUMMARY:Beginners' Session
DESCRIPTION:Share this:Tweet
URL:https://crawley-cogs.co.uk/event/beginners-session-21/
LOCATION:The People’s Pension Stadium\, Winfield Way\, Crawley\, RH10 9RX
END:VEVENT
BEGIN:VEVENT
DTSTART;TZID=UTC:20171128T154500
DTEND;TZID=UTC:20171128T230000
DTSTAMP:20260421T225138
CREATED:20171023T194438Z
LAST-MODIFIED:20171023T194438Z
UID:1175-1511883900-1511910000@crawley-cogs.co.uk
SUMMARY:Lionesses vs. Kazakhstan - COGS on Tour!
DESCRIPTION:Share this:Tweet
URL:https://crawley-cogs.co.uk/event/lionesses-vs-kazakhstan-cogs-on-tour/
LOCATION:Western Homes Stadium\, Colchester
END:VEVENT
BEGIN:VEVENT
DTSTART;TZID=UTC:20171123T190000
DTEND;TZID=UTC:20171123T200000
DTSTAMP:20260421T225138
CREATED:20171110T222803Z
LAST-MODIFIED:20171110T222803Z
UID:1260-1511463600-1511467200@crawley-cogs.co.uk
SUMMARY:Intermediate Session
DESCRIPTION:Share this:Tweet
URL:https://crawley-cogs.co.uk/event/intermediate-session-16/
LOCATION:The People’s Pension Stadium\, Winfield Way\, Crawley\, RH10 9RX
END:VEVENT
BEGIN:VEVENT
DTSTART;TZID=UTC:20171122T203000
DTEND;TZID=UTC:20171122T213000
DTSTAMP:20260421T225138
CREATED:20171110T222651Z
LAST-MODIFIED:20171110T222651Z
UID:1258-1511382600-1511386200@crawley-cogs.co.uk
SUMMARY:Experienced Players' Session
DESCRIPTION:Share this:Tweet
URL:https://crawley-cogs.co.uk/event/experienced-players-session-18/
LOCATION:The People’s Pension Stadium\, Winfield Way\, Crawley\, RH10 9RX
END:VEVENT
BEGIN:VEVENT
DTSTART;TZID=UTC:20171122T193000
DTEND;TZID=UTC:20171122T203000
DTSTAMP:20260421T225138
CREATED:20171110T222605Z
LAST-MODIFIED:20171110T222605Z
UID:1256-1511379000-1511382600@crawley-cogs.co.uk
SUMMARY:Beginners' Session
DESCRIPTION:Share this:Tweet
URL:https://crawley-cogs.co.uk/event/beginners-session-20/
LOCATION:The People’s Pension Stadium\, Winfield Way\, Crawley\, RH10 9RX
END:VEVENT
BEGIN:VEVENT
DTSTART;TZID=UTC:20171117T180000
DTEND;TZID=UTC:20171118T010000
DTSTAMP:20260421T225138
CREATED:20171023T193021Z
LAST-MODIFIED:20171023T193021Z
UID:1169-1510941600-1510966800@crawley-cogs.co.uk
SUMMARY:Sussex Sports Awards Evening 2017
DESCRIPTION:The COGS have been nominated as one of the three Finalists in the Community Impact Award category. \nShare this:Tweet
URL:https://crawley-cogs.co.uk/event/sussex-sports-awards-evening-2017/
LOCATION:The Grand Hotel\, Brighton\, 90-99 Kings Road\, Brighton\, BN1 2FW
END:VEVENT
BEGIN:VEVENT
DTSTART;TZID=UTC:20171116T190000
DTEND;TZID=UTC:20171116T200000
DTSTAMP:20260421T225138
CREATED:20171110T222442Z
LAST-MODIFIED:20171110T222442Z
UID:1254-1510858800-1510862400@crawley-cogs.co.uk
SUMMARY:Intermediate Session
DESCRIPTION:Share this:Tweet
URL:https://crawley-cogs.co.uk/event/intermediate-session-15/
LOCATION:The People’s Pension Stadium\, Winfield Way\, Crawley\, RH10 9RX
END:VEVENT
BEGIN:VEVENT
DTSTART;TZID=UTC:20171115T203000
DTEND;TZID=UTC:20171115T213000
DTSTAMP:20260421T225138
CREATED:20171110T222404Z
LAST-MODIFIED:20171110T222404Z
UID:1252-1510777800-1510781400@crawley-cogs.co.uk
SUMMARY:Experienced Players' Session
DESCRIPTION:Share this:Tweet
URL:https://crawley-cogs.co.uk/event/experienced-players-session-17/
LOCATION:The People’s Pension Stadium\, Winfield Way\, Crawley\, RH10 9RX
END:VEVENT
BEGIN:VEVENT
DTSTART;TZID=UTC:20171115T193000
DTEND;TZID=UTC:20171115T203000
DTSTAMP:20260421T225138
CREATED:20171110T222214Z
LAST-MODIFIED:20171110T222214Z
UID:1250-1510774200-1510777800@crawley-cogs.co.uk
SUMMARY:Beginners' Session
DESCRIPTION:Share this:Tweet
URL:https://crawley-cogs.co.uk/event/beginners-session-19/
LOCATION:The People’s Pension Stadium\, Winfield Way\, Crawley\, RH10 9RX
END:VEVENT
BEGIN:VEVENT
DTSTART;TZID=UTC:20171109T190000
DTEND;TZID=UTC:20171109T200000
DTSTAMP:20260421T225138
CREATED:20171110T221421Z
LAST-MODIFIED:20171110T221421Z
UID:1248-1510254000-1510257600@crawley-cogs.co.uk
SUMMARY:Intermediate Session
DESCRIPTION:Share this:Tweet
URL:https://crawley-cogs.co.uk/event/intermediate-session-14/
LOCATION:The People’s Pension Stadium\, Winfield Way\, Crawley\, RH10 9RX
END:VEVENT
BEGIN:VEVENT
DTSTART;TZID=UTC:20171108T203000
DTEND;TZID=UTC:20171108T213000
DTSTAMP:20260421T225138
CREATED:20171110T221325Z
LAST-MODIFIED:20171110T221325Z
UID:1246-1510173000-1510176600@crawley-cogs.co.uk
SUMMARY:Experienced Players' Session
DESCRIPTION:Share this:Tweet
URL:https://crawley-cogs.co.uk/event/experienced-players-session-16/
LOCATION:The People’s Pension Stadium\, Winfield Way\, Crawley\, RH10 9RX
END:VEVENT
BEGIN:VEVENT
DTSTART;TZID=UTC:20171108T193000
DTEND;TZID=UTC:20171108T203000
DTSTAMP:20260421T225138
CREATED:20171110T220947Z
LAST-MODIFIED:20171110T220947Z
UID:1244-1510169400-1510173000@crawley-cogs.co.uk
SUMMARY:Beginners' Session
DESCRIPTION:Share this:Tweet
URL:https://crawley-cogs.co.uk/event/beginners-session-18/
LOCATION:The People’s Pension Stadium\, Winfield Way\, Crawley\, RH10 9RX
END:VEVENT
BEGIN:VEVENT
DTSTART;TZID=UTC:20171104T110000
DTEND;TZID=UTC:20171104T143000
DTSTAMP:20260421T225138
CREATED:20171023T193336Z
LAST-MODIFIED:20171023T193336Z
UID:1172-1509793200-1509805800@crawley-cogs.co.uk
SUMMARY:Surrey FA Mum's/Rec. Beg. Tournament
DESCRIPTION:Share this:Tweet
URL:https://crawley-cogs.co.uk/event/surrey-fa-mumsrec-beg-tournament/
LOCATION:Woking Leisure Centre
END:VEVENT
BEGIN:VEVENT
DTSTART;TZID=UTC:20171102T190000
DTEND;TZID=UTC:20171102T200000
DTSTAMP:20260421T225138
CREATED:20171023T192719Z
LAST-MODIFIED:20171023T192719Z
UID:1167-1509649200-1509652800@crawley-cogs.co.uk
SUMMARY:Intermediate Session
DESCRIPTION:Share this:Tweet
URL:https://crawley-cogs.co.uk/event/intermediate-session-13/
LOCATION:The People’s Pension Stadium\, Winfield Way\, Crawley\, RH10 9RX
END:VEVENT
BEGIN:VEVENT
DTSTART;TZID=UTC:20171101T203000
DTEND;TZID=UTC:20171101T213000
DTSTAMP:20260421T225138
CREATED:20171023T192639Z
LAST-MODIFIED:20171023T192639Z
UID:1165-1509568200-1509571800@crawley-cogs.co.uk
SUMMARY:Experienced Players' Session
DESCRIPTION:Share this:Tweet
URL:https://crawley-cogs.co.uk/event/experienced-players-session-15/
LOCATION:The People’s Pension Stadium\, Winfield Way\, Crawley\, RH10 9RX
END:VEVENT
BEGIN:VEVENT
DTSTART;TZID=UTC:20171101T193000
DTEND;TZID=UTC:20171101T203000
DTSTAMP:20260421T225138
CREATED:20171023T192547Z
LAST-MODIFIED:20171023T192547Z
UID:1163-1509564600-1509568200@crawley-cogs.co.uk
SUMMARY:Beginners' Session
DESCRIPTION:Share this:Tweet
URL:https://crawley-cogs.co.uk/event/beginners-session-17/
LOCATION:The People’s Pension Stadium\, Winfield Way\, Crawley\, RH10 9RX
END:VEVENT
BEGIN:VEVENT
DTSTART;TZID=UTC:20171026T190000
DTEND;TZID=UTC:20171026T200000
DTSTAMP:20260421T225138
CREATED:20171023T192443Z
LAST-MODIFIED:20171023T192443Z
UID:1161-1509044400-1509048000@crawley-cogs.co.uk
SUMMARY:Intermediate Session
DESCRIPTION:Share this:Tweet
URL:https://crawley-cogs.co.uk/event/intermediate-session-12/
LOCATION:The People’s Pension Stadium\, Winfield Way\, Crawley\, RH10 9RX
END:VEVENT
BEGIN:VEVENT
DTSTART;TZID=UTC:20171025T203000
DTEND;TZID=UTC:20171025T213000
DTSTAMP:20260421T225138
CREATED:20171023T192354Z
LAST-MODIFIED:20171023T192354Z
UID:1159-1508963400-1508967000@crawley-cogs.co.uk
SUMMARY:Experienced Players' Session
DESCRIPTION:Share this:Tweet
URL:https://crawley-cogs.co.uk/event/experienced-players-session-14/
LOCATION:The People’s Pension Stadium\, Winfield Way\, Crawley\, RH10 9RX
END:VEVENT
BEGIN:VEVENT
DTSTART;TZID=UTC:20171025T193000
DTEND;TZID=UTC:20171025T203000
DTSTAMP:20260421T225138
CREATED:20171023T192303Z
LAST-MODIFIED:20171023T192303Z
UID:1157-1508959800-1508963400@crawley-cogs.co.uk
SUMMARY:Beginners' Session
DESCRIPTION:Share this:Tweet
URL:https://crawley-cogs.co.uk/event/beginners-session-16/
LOCATION:The People’s Pension Stadium\, Winfield Way\, Crawley\, RH10 9RX
END:VEVENT
BEGIN:VEVENT
DTSTART;TZID=UTC:20171020T190000
DTEND;TZID=UTC:20171020T213000
DTSTAMP:20260421T225138
CREATED:20171023T191919Z
LAST-MODIFIED:20171023T191919Z
UID:1152-1508526000-1508535000@crawley-cogs.co.uk
SUMMARY:Second Sussex FA Women's Rec. Festival
DESCRIPTION:Share this:Tweet
URL:https://crawley-cogs.co.uk/event/second-sussex-fa-womens-rec-festival/
LOCATION:Sussex County FA HQ\, Lancing\, Culver Road\, Lancing\, BN15 9AX
END:VEVENT
BEGIN:VEVENT
DTSTART;TZID=UTC:20171020T080000
DTEND;TZID=UTC:20171020T170000
DTSTAMP:20260421T225138
CREATED:20171023T192058Z
LAST-MODIFIED:20171023T192152Z
UID:1154-1508486400-1508518800@crawley-cogs.co.uk
SUMMARY:Reached the 3 Finalists for SSA 2017!
DESCRIPTION:An amazing day where we were advised we had reached the last 3 Finalists in the Community Impact Award for the Sussex Sports Awards 2017\, to be held at The Grand Hotel in Brighton. \nShare this:Tweet
URL:https://crawley-cogs.co.uk/event/reached-the-3-finalists-for-ssa-2017/
END:VEVENT
BEGIN:VEVENT
DTSTART;TZID=UTC:20171019T190000
DTEND;TZID=UTC:20171019T200000
DTSTAMP:20260421T225138
CREATED:20171023T191824Z
LAST-MODIFIED:20171023T191824Z
UID:1150-1508439600-1508443200@crawley-cogs.co.uk
SUMMARY:Intermediate Session
DESCRIPTION:Share this:Tweet
URL:https://crawley-cogs.co.uk/event/intermediate-session-11/
LOCATION:The People’s Pension Stadium\, Winfield Way\, Crawley\, RH10 9RX
END:VEVENT
BEGIN:VEVENT
DTSTART;TZID=UTC:20171018T203000
DTEND;TZID=UTC:20171018T213000
DTSTAMP:20260421T225138
CREATED:20171023T191735Z
LAST-MODIFIED:20171023T191735Z
UID:1148-1508358600-1508362200@crawley-cogs.co.uk
SUMMARY:Experienced Players' Session
DESCRIPTION:Share this:Tweet
URL:https://crawley-cogs.co.uk/event/experienced-players-session-13/
LOCATION:The People’s Pension Stadium\, Winfield Way\, Crawley\, RH10 9RX
END:VEVENT
BEGIN:VEVENT
DTSTART;TZID=UTC:20171018T193000
DTEND;TZID=UTC:20171018T203000
DTSTAMP:20260421T225138
CREATED:20171023T191646Z
LAST-MODIFIED:20171023T191646Z
UID:1146-1508355000-1508358600@crawley-cogs.co.uk
SUMMARY:Beginners' Session
DESCRIPTION:Share this:Tweet
URL:https://crawley-cogs.co.uk/event/beginners-session-15/
LOCATION:The People’s Pension Stadium\, Winfield Way\, Crawley\, RH10 9RX
END:VEVENT
BEGIN:VEVENT
DTSTART;TZID=UTC:20171016T080000
DTEND;TZID=UTC:20171016T170000
DTSTAMP:20260421T225138
CREATED:20171023T191029Z
LAST-MODIFIED:20171023T191029Z
UID:1132-1508140800-1508173200@crawley-cogs.co.uk
SUMMARY:Notification of Nomination for a Sussex Sports Award 2017
DESCRIPTION:Share this:Tweet
URL:https://crawley-cogs.co.uk/event/notification-of-nomination-for-a-sussex-sports-award-2017/
END:VEVENT
BEGIN:VEVENT
DTSTART;TZID=UTC:20171012T190000
DTEND;TZID=UTC:20171012T200000
DTSTAMP:20260421T225138
CREATED:20171023T191551Z
LAST-MODIFIED:20171023T191551Z
UID:1144-1507834800-1507838400@crawley-cogs.co.uk
SUMMARY:Intermediate Session
DESCRIPTION:Share this:Tweet
URL:https://crawley-cogs.co.uk/event/intermediate-session-10/
LOCATION:The People’s Pension Stadium\, Winfield Way\, Crawley\, RH10 9RX
END:VEVENT
BEGIN:VEVENT
DTSTART;TZID=UTC:20171011T193000
DTEND;TZID=UTC:20171011T203000
DTSTAMP:20260421T225138
CREATED:20171023T191424Z
LAST-MODIFIED:20171023T191424Z
UID:1140-1507750200-1507753800@crawley-cogs.co.uk
SUMMARY:Beginners' Session
DESCRIPTION:Share this:Tweet
URL:https://crawley-cogs.co.uk/event/beginners-session-14/
LOCATION:The People’s Pension Stadium\, Winfield Way\, Crawley\, RH10 9RX
END:VEVENT
BEGIN:VEVENT
DTSTART;TZID=UTC:20171011T080000
DTEND;TZID=UTC:20171011T170000
DTSTAMP:20260421T225138
CREATED:20171023T191506Z
LAST-MODIFIED:20171023T191506Z
UID:1142-1507708800-1507741200@crawley-cogs.co.uk
SUMMARY:Experienced Players' Session
DESCRIPTION:Share this:Tweet
URL:https://crawley-cogs.co.uk/event/experienced-players-session-12/
LOCATION:The People’s Pension Stadium\, Winfield Way\, Crawley\, RH10 9RX
END:VEVENT
BEGIN:VEVENT
DTSTART;TZID=UTC:20171007T110000
DTEND;TZID=UTC:20171007T133000
DTSTAMP:20260421T225138
CREATED:20170811T161106Z
LAST-MODIFIED:20170811T161106Z
UID:986-1507374000-1507383000@crawley-cogs.co.uk
SUMMARY:"Iconic" Match Fit Tournament - Canterbury Old Bags
DESCRIPTION:  \nShare this:Tweet
URL:https://crawley-cogs.co.uk/event/iconic-match-fit-tournament-canterbury-old-bags/
LOCATION:Simon Langton Boys Grammar School\, Langton Lane\, Nackington Road\, Canterbury\, CT4 7AS
END:VEVENT
BEGIN:VEVENT
DTSTART;TZID=UTC:20171005T190000
DTEND;TZID=UTC:20171005T200000
DTSTAMP:20260421T225138
CREATED:20171023T191330Z
LAST-MODIFIED:20171023T191330Z
UID:1138-1507230000-1507233600@crawley-cogs.co.uk
SUMMARY:Intermediate Session
DESCRIPTION:Share this:Tweet
URL:https://crawley-cogs.co.uk/event/intermediate-session-9/
LOCATION:The People’s Pension Stadium\, Winfield Way\, Crawley\, RH10 9RX
END:VEVENT
END:VCALENDAR