BEGIN:VCALENDAR
VERSION:2.0
PRODID:-//CRAWLEY OLD GIRLS (COGS) - ECPv6.15.20//NONSGML v1.0//EN
CALSCALE:GREGORIAN
METHOD:PUBLISH
X-WR-CALNAME:CRAWLEY OLD GIRLS (COGS)
X-ORIGINAL-URL:https://crawley-cogs.co.uk
X-WR-CALDESC:Events for CRAWLEY OLD GIRLS (COGS)
REFRESH-INTERVAL;VALUE=DURATION:PT1H
X-Robots-Tag:noindex
X-PUBLISHED-TTL:PT1H
BEGIN:VTIMEZONE
TZID:UTC
BEGIN:STANDARD
TZOFFSETFROM:+0000
TZOFFSETTO:+0000
TZNAME:UTC
DTSTART:20160101T000000
END:STANDARD
END:VTIMEZONE
BEGIN:VEVENT
DTSTART;TZID=UTC:20171020T080000
DTEND;TZID=UTC:20171020T170000
DTSTAMP:20260422T022238
CREATED:20171023T192058Z
LAST-MODIFIED:20171023T192152Z
UID:1154-1508486400-1508518800@crawley-cogs.co.uk
SUMMARY:Reached the 3 Finalists for SSA 2017!
DESCRIPTION:An amazing day where we were advised we had reached the last 3 Finalists in the Community Impact Award for the Sussex Sports Awards 2017\, to be held at The Grand Hotel in Brighton. \nShare this:Tweet
URL:https://crawley-cogs.co.uk/event/reached-the-3-finalists-for-ssa-2017/
END:VEVENT
BEGIN:VEVENT
DTSTART;TZID=UTC:20171019T190000
DTEND;TZID=UTC:20171019T200000
DTSTAMP:20260422T022238
CREATED:20171023T191824Z
LAST-MODIFIED:20171023T191824Z
UID:1150-1508439600-1508443200@crawley-cogs.co.uk
SUMMARY:Intermediate Session
DESCRIPTION:Share this:Tweet
URL:https://crawley-cogs.co.uk/event/intermediate-session-11/
LOCATION:The People’s Pension Stadium\, Winfield Way\, Crawley\, RH10 9RX
END:VEVENT
BEGIN:VEVENT
DTSTART;TZID=UTC:20171018T203000
DTEND;TZID=UTC:20171018T213000
DTSTAMP:20260422T022238
CREATED:20171023T191735Z
LAST-MODIFIED:20171023T191735Z
UID:1148-1508358600-1508362200@crawley-cogs.co.uk
SUMMARY:Experienced Players' Session
DESCRIPTION:Share this:Tweet
URL:https://crawley-cogs.co.uk/event/experienced-players-session-13/
LOCATION:The People’s Pension Stadium\, Winfield Way\, Crawley\, RH10 9RX
END:VEVENT
BEGIN:VEVENT
DTSTART;TZID=UTC:20171018T193000
DTEND;TZID=UTC:20171018T203000
DTSTAMP:20260422T022238
CREATED:20171023T191646Z
LAST-MODIFIED:20171023T191646Z
UID:1146-1508355000-1508358600@crawley-cogs.co.uk
SUMMARY:Beginners' Session
DESCRIPTION:Share this:Tweet
URL:https://crawley-cogs.co.uk/event/beginners-session-15/
LOCATION:The People’s Pension Stadium\, Winfield Way\, Crawley\, RH10 9RX
END:VEVENT
BEGIN:VEVENT
DTSTART;TZID=UTC:20171016T080000
DTEND;TZID=UTC:20171016T170000
DTSTAMP:20260422T022238
CREATED:20171023T191029Z
LAST-MODIFIED:20171023T191029Z
UID:1132-1508140800-1508173200@crawley-cogs.co.uk
SUMMARY:Notification of Nomination for a Sussex Sports Award 2017
DESCRIPTION:Share this:Tweet
URL:https://crawley-cogs.co.uk/event/notification-of-nomination-for-a-sussex-sports-award-2017/
END:VEVENT
BEGIN:VEVENT
DTSTART;TZID=UTC:20171012T190000
DTEND;TZID=UTC:20171012T200000
DTSTAMP:20260422T022238
CREATED:20171023T191551Z
LAST-MODIFIED:20171023T191551Z
UID:1144-1507834800-1507838400@crawley-cogs.co.uk
SUMMARY:Intermediate Session
DESCRIPTION:Share this:Tweet
URL:https://crawley-cogs.co.uk/event/intermediate-session-10/
LOCATION:The People’s Pension Stadium\, Winfield Way\, Crawley\, RH10 9RX
END:VEVENT
BEGIN:VEVENT
DTSTART;TZID=UTC:20171011T193000
DTEND;TZID=UTC:20171011T203000
DTSTAMP:20260422T022238
CREATED:20171023T191424Z
LAST-MODIFIED:20171023T191424Z
UID:1140-1507750200-1507753800@crawley-cogs.co.uk
SUMMARY:Beginners' Session
DESCRIPTION:Share this:Tweet
URL:https://crawley-cogs.co.uk/event/beginners-session-14/
LOCATION:The People’s Pension Stadium\, Winfield Way\, Crawley\, RH10 9RX
END:VEVENT
BEGIN:VEVENT
DTSTART;TZID=UTC:20171011T080000
DTEND;TZID=UTC:20171011T170000
DTSTAMP:20260422T022238
CREATED:20171023T191506Z
LAST-MODIFIED:20171023T191506Z
UID:1142-1507708800-1507741200@crawley-cogs.co.uk
SUMMARY:Experienced Players' Session
DESCRIPTION:Share this:Tweet
URL:https://crawley-cogs.co.uk/event/experienced-players-session-12/
LOCATION:The People’s Pension Stadium\, Winfield Way\, Crawley\, RH10 9RX
END:VEVENT
BEGIN:VEVENT
DTSTART;TZID=UTC:20171007T110000
DTEND;TZID=UTC:20171007T133000
DTSTAMP:20260422T022238
CREATED:20170811T161106Z
LAST-MODIFIED:20170811T161106Z
UID:986-1507374000-1507383000@crawley-cogs.co.uk
SUMMARY:"Iconic" Match Fit Tournament - Canterbury Old Bags
DESCRIPTION:  \nShare this:Tweet
URL:https://crawley-cogs.co.uk/event/iconic-match-fit-tournament-canterbury-old-bags/
LOCATION:Simon Langton Boys Grammar School\, Langton Lane\, Nackington Road\, Canterbury\, CT4 7AS
END:VEVENT
BEGIN:VEVENT
DTSTART;TZID=UTC:20171005T190000
DTEND;TZID=UTC:20171005T200000
DTSTAMP:20260422T022238
CREATED:20171023T191330Z
LAST-MODIFIED:20171023T191330Z
UID:1138-1507230000-1507233600@crawley-cogs.co.uk
SUMMARY:Intermediate Session
DESCRIPTION:Share this:Tweet
URL:https://crawley-cogs.co.uk/event/intermediate-session-9/
LOCATION:The People’s Pension Stadium\, Winfield Way\, Crawley\, RH10 9RX
END:VEVENT
BEGIN:VEVENT
DTSTART;TZID=UTC:20171004T203000
DTEND;TZID=UTC:20171004T213000
DTSTAMP:20260422T022238
CREATED:20171023T191215Z
LAST-MODIFIED:20171023T191215Z
UID:1136-1507149000-1507152600@crawley-cogs.co.uk
SUMMARY:Experienced Players' Session
DESCRIPTION:Share this:Tweet
URL:https://crawley-cogs.co.uk/event/experienced-players-session-11/
LOCATION:The People’s Pension Stadium\, Winfield Way\, Crawley\, RH10 9RX
END:VEVENT
BEGIN:VEVENT
DTSTART;TZID=UTC:20171004T193000
DTEND;TZID=UTC:20171004T203000
DTSTAMP:20260422T022238
CREATED:20171023T191124Z
LAST-MODIFIED:20171023T191124Z
UID:1134-1507145400-1507149000@crawley-cogs.co.uk
SUMMARY:Beginners' Session
DESCRIPTION:Share this:Tweet
URL:https://crawley-cogs.co.uk/event/beginners-session-13/
LOCATION:The People’s Pension Stadium\, Winfield Way\, Crawley\, RH10 9RX
END:VEVENT
BEGIN:VEVENT
DTSTART;TZID=UTC:20170928T190000
DTEND;TZID=UTC:20170928T200000
DTSTAMP:20260422T022238
CREATED:20171023T190900Z
LAST-MODIFIED:20171023T190900Z
UID:1130-1506625200-1506628800@crawley-cogs.co.uk
SUMMARY:Intermediate Session
DESCRIPTION:Share this:Tweet
URL:https://crawley-cogs.co.uk/event/intermediate-session-8/
LOCATION:The People’s Pension Stadium\, Winfield Way\, Crawley\, RH10 9RX
END:VEVENT
BEGIN:VEVENT
DTSTART;TZID=UTC:20170927T203000
DTEND;TZID=UTC:20170927T213000
DTSTAMP:20260422T022238
CREATED:20171023T190648Z
LAST-MODIFIED:20171023T190648Z
UID:1128-1506544200-1506547800@crawley-cogs.co.uk
SUMMARY:Experienced Players' Session
DESCRIPTION:Share this:Tweet
URL:https://crawley-cogs.co.uk/event/experienced-players-session-10/
LOCATION:The People’s Pension Stadium\, Winfield Way\, Crawley\, RH10 9RX
END:VEVENT
BEGIN:VEVENT
DTSTART;TZID=UTC:20170927T193000
DTEND;TZID=UTC:20170927T203000
DTSTAMP:20260422T022238
CREATED:20171023T190441Z
LAST-MODIFIED:20171023T190441Z
UID:1126-1506540600-1506544200@crawley-cogs.co.uk
SUMMARY:Beginners' Session
DESCRIPTION:Share this:Tweet
URL:https://crawley-cogs.co.uk/event/beginners-session-12/
LOCATION:The People’s Pension Stadium\, Winfield Way\, Crawley\, RH10 9RX
END:VEVENT
BEGIN:VEVENT
DTSTART;TZID=UTC:20170921T190000
DTEND;TZID=UTC:20170921T233000
DTSTAMP:20260422T022238
CREATED:20170709T132629Z
LAST-MODIFIED:20170709T132629Z
UID:770-1506020400-1506036600@crawley-cogs.co.uk
SUMMARY:Sussex County FA Awards Evening
DESCRIPTION:The COGs were awarded the Sussex County FA Community Award for best Inclusive Project\, on the 5th July 2017\, to the great surprise of everyone! \nhttp://www.sussexfa.com/news/2017/jul/community-awards-winners-announced \nShare this:Tweet
URL:https://crawley-cogs.co.uk/event/sussex-county-fa-awards-evening/
LOCATION:Amex Stadium\, BN1 9BL
END:VEVENT
BEGIN:VEVENT
DTSTART;TZID=UTC:20170920T203000
DTEND;TZID=UTC:20170920T213000
DTSTAMP:20260422T022238
CREATED:20171023T190137Z
LAST-MODIFIED:20171023T190200Z
UID:1122-1505939400-1505943000@crawley-cogs.co.uk
SUMMARY:Experienced Player's Session
DESCRIPTION:With new coach Sophia. \nShare this:Tweet
URL:https://crawley-cogs.co.uk/event/experienced-players-session-9/
LOCATION:The People’s Pension Stadium\, Winfield Way\, Crawley\, RH10 9RX
END:VEVENT
BEGIN:VEVENT
DTSTART;TZID=UTC:20170920T193000
DTEND;TZID=UTC:20170920T203000
DTSTAMP:20260422T022238
CREATED:20171023T185844Z
LAST-MODIFIED:20171023T190235Z
UID:1120-1505935800-1505939400@crawley-cogs.co.uk
SUMMARY:Beginners' Session
DESCRIPTION:First session for new coach Sophia. \nShare this:Tweet
URL:https://crawley-cogs.co.uk/event/beginners-session-11/
LOCATION:The People’s Pension Stadium\, Winfield Way\, Crawley\, RH10 9RX
END:VEVENT
BEGIN:VEVENT
DTSTART;TZID=UTC:20170914T190000
DTEND;TZID=UTC:20170914T200000
DTSTAMP:20260422T022238
CREATED:20171023T185744Z
LAST-MODIFIED:20171023T185744Z
UID:1118-1505415600-1505419200@crawley-cogs.co.uk
SUMMARY:Intermediate Session
DESCRIPTION:Share this:Tweet
URL:https://crawley-cogs.co.uk/event/intermediate-session-7/
LOCATION:The People’s Pension Stadium\, Winfield Way\, Crawley\, RH10 9RX
END:VEVENT
BEGIN:VEVENT
DTSTART;TZID=UTC:20170913T203000
DTEND;TZID=UTC:20170913T213000
DTSTAMP:20260422T022238
CREATED:20171023T185642Z
LAST-MODIFIED:20171023T185642Z
UID:1116-1505334600-1505338200@crawley-cogs.co.uk
SUMMARY:Experienced Players' Session
DESCRIPTION:Share this:Tweet
URL:https://crawley-cogs.co.uk/event/experienced-players-session-8/
LOCATION:The People’s Pension Stadium\, Winfield Way\, Crawley\, RH10 9RX
END:VEVENT
BEGIN:VEVENT
DTSTART;TZID=UTC:20170913T193000
DTEND;TZID=UTC:20170913T203000
DTSTAMP:20260422T022238
CREATED:20171023T185545Z
LAST-MODIFIED:20171023T185545Z
UID:1114-1505331000-1505334600@crawley-cogs.co.uk
SUMMARY:Beginners' Session
DESCRIPTION:Share this:Tweet
URL:https://crawley-cogs.co.uk/event/beginners-session-9/
LOCATION:The People’s Pension Stadium\, Winfield Way\, Crawley\, RH10 9RX
END:VEVENT
BEGIN:VEVENT
DTSTART;TZID=UTC:20170909T120000
DTEND;TZID=UTC:20170909T143000
DTSTAMP:20260422T022238
CREATED:20170811T160553Z
LAST-MODIFIED:20170811T160553Z
UID:983-1504958400-1504967400@crawley-cogs.co.uk
SUMMARY:Charity Macmillan Cancer Tournament run by AFC Wimbledon.
DESCRIPTION:Further details can be found here:  https://www.justgiving.com/fundraising/9thsept2017 \n  \nShare this:Tweet
URL:https://crawley-cogs.co.uk/event/charity-macmillan-cancer-tournament-run-by-afc-wimbledon/
LOCATION:AFC Wimbledon
END:VEVENT
BEGIN:VEVENT
DTSTART;TZID=UTC:20170907T190000
DTEND;TZID=UTC:20170907T200000
DTSTAMP:20260422T022238
CREATED:20171023T185349Z
LAST-MODIFIED:20171023T185349Z
UID:1112-1504810800-1504814400@crawley-cogs.co.uk
SUMMARY:Intermediate Session
DESCRIPTION:Share this:Tweet
URL:https://crawley-cogs.co.uk/event/intermediate-session-6/
LOCATION:The People’s Pension Stadium\, Winfield Way\, Crawley\, RH10 9RX
END:VEVENT
BEGIN:VEVENT
DTSTART;TZID=UTC:20170906T203000
DTEND;TZID=UTC:20170906T213000
DTSTAMP:20260422T022238
CREATED:20171023T185301Z
LAST-MODIFIED:20171023T185301Z
UID:1110-1504729800-1504733400@crawley-cogs.co.uk
SUMMARY:Experienced Players' Session
DESCRIPTION:Share this:Tweet
URL:https://crawley-cogs.co.uk/event/experienced-players-session-7/
LOCATION:The People’s Pension Stadium\, Winfield Way\, Crawley\, RH10 9RX
END:VEVENT
BEGIN:VEVENT
DTSTART;TZID=UTC:20170906T193000
DTEND;TZID=UTC:20170906T203000
DTSTAMP:20260422T022238
CREATED:20171023T185213Z
LAST-MODIFIED:20171023T185213Z
UID:1108-1504726200-1504729800@crawley-cogs.co.uk
SUMMARY:Beginners' Session
DESCRIPTION:Share this:Tweet
URL:https://crawley-cogs.co.uk/event/beginners-session-10/
LOCATION:The People’s Pension Stadium\, Winfield Way\, Crawley\, RH10 9RX
END:VEVENT
BEGIN:VEVENT
DTSTART;TZID=UTC:20170824T190000
DTEND;TZID=UTC:20170824T200000
DTSTAMP:20260422T022238
CREATED:20171023T184204Z
LAST-MODIFIED:20171023T184820Z
UID:1104-1503601200-1503604800@crawley-cogs.co.uk
SUMMARY:Intermediate Session
DESCRIPTION:Share this:Tweet
URL:https://crawley-cogs.co.uk/event/intermediate-session-5/
LOCATION:The People’s Pension Stadium\, Winfield Way\, Crawley\, RH10 9RX
END:VEVENT
BEGIN:VEVENT
DTSTART;TZID=UTC:20170823T203000
DTEND;TZID=UTC:20170823T213000
DTSTAMP:20260422T022238
CREATED:20171023T184030Z
LAST-MODIFIED:20171023T184030Z
UID:1102-1503520200-1503523800@crawley-cogs.co.uk
SUMMARY:Experienced Players' Session
DESCRIPTION:Share this:Tweet
URL:https://crawley-cogs.co.uk/event/experienced-players-session-6/
LOCATION:The People’s Pension Stadium\, Winfield Way\, Crawley\, RH10 9RX
END:VEVENT
BEGIN:VEVENT
DTSTART;TZID=UTC:20170823T183000
DTEND;TZID=UTC:20170823T193000
DTSTAMP:20260422T022238
CREATED:20171023T183937Z
LAST-MODIFIED:20171023T183937Z
UID:1100-1503513000-1503516600@crawley-cogs.co.uk
SUMMARY:Beginners' Session
DESCRIPTION:Share this:Tweet
URL:https://crawley-cogs.co.uk/event/beginners-session-8/
LOCATION:The People’s Pension Stadium\, Winfield Way\, Crawley\, RH10 9RX
END:VEVENT
BEGIN:VEVENT
DTSTART;TZID=UTC:20170821T183000
DTEND;TZID=UTC:20170821T193000
DTSTAMP:20260422T022238
CREATED:20171023T183833Z
LAST-MODIFIED:20171023T183833Z
UID:1098-1503340200-1503343800@crawley-cogs.co.uk
SUMMARY:Jumpers for Goalposts
DESCRIPTION:Share this:Tweet
URL:https://crawley-cogs.co.uk/event/jumpers-for-goalposts-7/
LOCATION:Grattons Park\, Pound Hill\, RH10 3BA
END:VEVENT
BEGIN:VEVENT
DTSTART;TZID=UTC:20170817T190000
DTEND;TZID=UTC:20170817T200000
DTSTAMP:20260422T022238
CREATED:20170811T162928Z
LAST-MODIFIED:20170811T162928Z
UID:1000-1502996400-1503000000@crawley-cogs.co.uk
SUMMARY:Intermediate Session
DESCRIPTION:Share this:Tweet
URL:https://crawley-cogs.co.uk/event/intermediate-session-4/
LOCATION:The People’s Pension Stadium\, Winfield Way\, Crawley\, RH10 9RX
END:VEVENT
END:VCALENDAR