BEGIN:VCALENDAR
VERSION:2.0
PRODID:-//CRAWLEY OLD GIRLS (COGS) - ECPv6.15.20//NONSGML v1.0//EN
CALSCALE:GREGORIAN
METHOD:PUBLISH
X-ORIGINAL-URL:https://crawley-cogs.co.uk
X-WR-CALDESC:Events for CRAWLEY OLD GIRLS (COGS)
REFRESH-INTERVAL;VALUE=DURATION:PT1H
X-Robots-Tag:noindex
X-PUBLISHED-TTL:PT1H
BEGIN:VTIMEZONE
TZID:UTC
BEGIN:STANDARD
TZOFFSETFROM:+0000
TZOFFSETTO:+0000
TZNAME:UTC
DTSTART:20160101T000000
END:STANDARD
END:VTIMEZONE
BEGIN:VEVENT
DTSTART;TZID=UTC:20170913T193000
DTEND;TZID=UTC:20170913T203000
DTSTAMP:20260422T052258
CREATED:20171023T185545Z
LAST-MODIFIED:20171023T185545Z
UID:1114-1505331000-1505334600@crawley-cogs.co.uk
SUMMARY:Beginners' Session
DESCRIPTION:Share this:Tweet
URL:https://crawley-cogs.co.uk/event/beginners-session-9/
LOCATION:The People’s Pension Stadium\, Winfield Way\, Crawley\, RH10 9RX
END:VEVENT
BEGIN:VEVENT
DTSTART;TZID=UTC:20170909T120000
DTEND;TZID=UTC:20170909T143000
DTSTAMP:20260422T052258
CREATED:20170811T160553Z
LAST-MODIFIED:20170811T160553Z
UID:983-1504958400-1504967400@crawley-cogs.co.uk
SUMMARY:Charity Macmillan Cancer Tournament run by AFC Wimbledon.
DESCRIPTION:Further details can be found here:  https://www.justgiving.com/fundraising/9thsept2017 \n  \nShare this:Tweet
URL:https://crawley-cogs.co.uk/event/charity-macmillan-cancer-tournament-run-by-afc-wimbledon/
LOCATION:AFC Wimbledon
END:VEVENT
BEGIN:VEVENT
DTSTART;TZID=UTC:20170907T190000
DTEND;TZID=UTC:20170907T200000
DTSTAMP:20260422T052258
CREATED:20171023T185349Z
LAST-MODIFIED:20171023T185349Z
UID:1112-1504810800-1504814400@crawley-cogs.co.uk
SUMMARY:Intermediate Session
DESCRIPTION:Share this:Tweet
URL:https://crawley-cogs.co.uk/event/intermediate-session-6/
LOCATION:The People’s Pension Stadium\, Winfield Way\, Crawley\, RH10 9RX
END:VEVENT
BEGIN:VEVENT
DTSTART;TZID=UTC:20170906T203000
DTEND;TZID=UTC:20170906T213000
DTSTAMP:20260422T052258
CREATED:20171023T185301Z
LAST-MODIFIED:20171023T185301Z
UID:1110-1504729800-1504733400@crawley-cogs.co.uk
SUMMARY:Experienced Players' Session
DESCRIPTION:Share this:Tweet
URL:https://crawley-cogs.co.uk/event/experienced-players-session-7/
LOCATION:The People’s Pension Stadium\, Winfield Way\, Crawley\, RH10 9RX
END:VEVENT
BEGIN:VEVENT
DTSTART;TZID=UTC:20170906T193000
DTEND;TZID=UTC:20170906T203000
DTSTAMP:20260422T052258
CREATED:20171023T185213Z
LAST-MODIFIED:20171023T185213Z
UID:1108-1504726200-1504729800@crawley-cogs.co.uk
SUMMARY:Beginners' Session
DESCRIPTION:Share this:Tweet
URL:https://crawley-cogs.co.uk/event/beginners-session-10/
LOCATION:The People’s Pension Stadium\, Winfield Way\, Crawley\, RH10 9RX
END:VEVENT
BEGIN:VEVENT
DTSTART;TZID=UTC:20170824T190000
DTEND;TZID=UTC:20170824T200000
DTSTAMP:20260422T052258
CREATED:20171023T184204Z
LAST-MODIFIED:20171023T184820Z
UID:1104-1503601200-1503604800@crawley-cogs.co.uk
SUMMARY:Intermediate Session
DESCRIPTION:Share this:Tweet
URL:https://crawley-cogs.co.uk/event/intermediate-session-5/
LOCATION:The People’s Pension Stadium\, Winfield Way\, Crawley\, RH10 9RX
END:VEVENT
BEGIN:VEVENT
DTSTART;TZID=UTC:20170823T203000
DTEND;TZID=UTC:20170823T213000
DTSTAMP:20260422T052258
CREATED:20171023T184030Z
LAST-MODIFIED:20171023T184030Z
UID:1102-1503520200-1503523800@crawley-cogs.co.uk
SUMMARY:Experienced Players' Session
DESCRIPTION:Share this:Tweet
URL:https://crawley-cogs.co.uk/event/experienced-players-session-6/
LOCATION:The People’s Pension Stadium\, Winfield Way\, Crawley\, RH10 9RX
END:VEVENT
BEGIN:VEVENT
DTSTART;TZID=UTC:20170823T183000
DTEND;TZID=UTC:20170823T193000
DTSTAMP:20260422T052258
CREATED:20171023T183937Z
LAST-MODIFIED:20171023T183937Z
UID:1100-1503513000-1503516600@crawley-cogs.co.uk
SUMMARY:Beginners' Session
DESCRIPTION:Share this:Tweet
URL:https://crawley-cogs.co.uk/event/beginners-session-8/
LOCATION:The People’s Pension Stadium\, Winfield Way\, Crawley\, RH10 9RX
END:VEVENT
BEGIN:VEVENT
DTSTART;TZID=UTC:20170821T183000
DTEND;TZID=UTC:20170821T193000
DTSTAMP:20260422T052258
CREATED:20171023T183833Z
LAST-MODIFIED:20171023T183833Z
UID:1098-1503340200-1503343800@crawley-cogs.co.uk
SUMMARY:Jumpers for Goalposts
DESCRIPTION:Share this:Tweet
URL:https://crawley-cogs.co.uk/event/jumpers-for-goalposts-7/
LOCATION:Grattons Park\, Pound Hill\, RH10 3BA
END:VEVENT
BEGIN:VEVENT
DTSTART;TZID=UTC:20170817T190000
DTEND;TZID=UTC:20170817T200000
DTSTAMP:20260422T052258
CREATED:20170811T162928Z
LAST-MODIFIED:20170811T162928Z
UID:1000-1502996400-1503000000@crawley-cogs.co.uk
SUMMARY:Intermediate Session
DESCRIPTION:Share this:Tweet
URL:https://crawley-cogs.co.uk/event/intermediate-session-4/
LOCATION:The People’s Pension Stadium\, Winfield Way\, Crawley\, RH10 9RX
END:VEVENT
BEGIN:VEVENT
DTSTART;TZID=UTC:20170816T203000
DTEND;TZID=UTC:20170816T213000
DTSTAMP:20260422T052258
CREATED:20170811T163017Z
LAST-MODIFIED:20170811T163017Z
UID:1002-1502915400-1502919000@crawley-cogs.co.uk
SUMMARY:Experienced Players' Session
DESCRIPTION:Share this:Tweet
URL:https://crawley-cogs.co.uk/event/experienced-players-session-5/
LOCATION:The People’s Pension Stadium\, Winfield Way\, Crawley\, RH10 9RX
END:VEVENT
BEGIN:VEVENT
DTSTART;TZID=UTC:20170816T193000
DTEND;TZID=UTC:20170816T203000
DTSTAMP:20260422T052258
CREATED:20170811T162839Z
LAST-MODIFIED:20170811T162839Z
UID:998-1502911800-1502915400@crawley-cogs.co.uk
SUMMARY:Beginners' Session
DESCRIPTION:Share this:Tweet
URL:https://crawley-cogs.co.uk/event/beginners-session-7/
LOCATION:The People’s Pension Stadium\, Winfield Way\, Crawley\, RH10 9RX
END:VEVENT
BEGIN:VEVENT
DTSTART;TZID=UTC:20170814T183000
DTEND;TZID=UTC:20170814T193000
DTSTAMP:20260422T052258
CREATED:20170811T161619Z
LAST-MODIFIED:20170811T161619Z
UID:996-1502735400-1502739000@crawley-cogs.co.uk
SUMMARY:Jumpers for Goalposts
DESCRIPTION:Share this:Tweet
URL:https://crawley-cogs.co.uk/event/jumpers-for-goalposts-6/
LOCATION:Grattons Park\, Pound Hill\, RH10 3BA
END:VEVENT
BEGIN:VEVENT
DTSTART;TZID=UTC:20170810T190000
DTEND;TZID=UTC:20170810T200000
DTSTAMP:20260422T052258
CREATED:20170811T155947Z
LAST-MODIFIED:20170811T155947Z
UID:981-1502391600-1502395200@crawley-cogs.co.uk
SUMMARY:Intermediate Session with added Fitness!
DESCRIPTION:Share this:Tweet
URL:https://crawley-cogs.co.uk/event/intermediate-session-with-added-fitness/
LOCATION:The People’s Pension Stadium\, Winfield Way\, Crawley\, RH10 9RX
END:VEVENT
BEGIN:VEVENT
DTSTART;TZID=UTC:20170809T080000
DTEND;TZID=UTC:20170809T170000
DTSTAMP:20260422T052258
CREATED:20170811T155841Z
LAST-MODIFIED:20170811T155841Z
UID:979-1502265600-1502298000@crawley-cogs.co.uk
SUMMARY:Both sessions cancelled due to flooding & lack of numbers.
DESCRIPTION:Share this:Tweet
URL:https://crawley-cogs.co.uk/event/both-sessions-cancelled-due-to-flooding-lack-of-numbers/
END:VEVENT
BEGIN:VEVENT
DTSTART;TZID=UTC:20170807T183000
DTEND;TZID=UTC:20170807T193000
DTSTAMP:20260422T052258
CREATED:20170811T161354Z
LAST-MODIFIED:20170811T161354Z
UID:992-1502130600-1502134200@crawley-cogs.co.uk
SUMMARY:Jumpers for Goalposts
DESCRIPTION:Share this:Tweet
URL:https://crawley-cogs.co.uk/event/jumpers-for-goalposts-4/
LOCATION:Grattons Park\, Pound Hill\, RH10 3BA
END:VEVENT
BEGIN:VEVENT
DTSTART;TZID=UTC:20170803T080000
DTEND;TZID=UTC:20170803T170000
DTSTAMP:20260422T052258
CREATED:20170811T155746Z
LAST-MODIFIED:20170811T155746Z
UID:977-1501747200-1501779600@crawley-cogs.co.uk
SUMMARY:Women's Euro 2017 - Semi-Final vs. Holland - Training cancelled!
DESCRIPTION:Share this:Tweet
URL:https://crawley-cogs.co.uk/event/womens-euro-2017-semi-final-vs-holland-training-cancelled/
END:VEVENT
BEGIN:VEVENT
DTSTART;TZID=UTC:20170802T193000
DTEND;TZID=UTC:20170802T213000
DTSTAMP:20260422T052258
CREATED:20170709T135609Z
LAST-MODIFIED:20170709T135609Z
UID:798-1501702200-1501709400@crawley-cogs.co.uk
SUMMARY:Mini COGs Tournament - Faz & Kels Send off!
DESCRIPTION:Share this:Tweet
URL:https://crawley-cogs.co.uk/event/mini-cogs-tournament-faz-kels-send-off/
LOCATION:The People’s Pension Stadium\, Winfield Way\, Crawley\, RH10 9RX
END:VEVENT
BEGIN:VEVENT
DTSTART;TZID=UTC:20170802T160000
DTEND;TZID=UTC:20170802T190000
DTSTAMP:20260422T052258
CREATED:20170709T135458Z
LAST-MODIFIED:20170709T135458Z
UID:796-1501689600-1501700400@crawley-cogs.co.uk
SUMMARY:Police 6 aside Tournament
DESCRIPTION:Share this:Tweet
URL:https://crawley-cogs.co.uk/event/police-6-aside-tournament/
LOCATION:The People’s Pension Stadium\, Winfield Way\, Crawley\, RH10 9RX
END:VEVENT
BEGIN:VEVENT
DTSTART;TZID=UTC:20170731T183000
DTEND;TZID=UTC:20170731T193000
DTSTAMP:20260422T052258
CREATED:20170811T161450Z
LAST-MODIFIED:20170811T161450Z
UID:994-1501525800-1501529400@crawley-cogs.co.uk
SUMMARY:Jumpers for Goalposts
DESCRIPTION:Share this:Tweet
URL:https://crawley-cogs.co.uk/event/jumpers-for-goalposts-5/
LOCATION:Grattons Park\, Pound Hill\, RH10 3BA
END:VEVENT
BEGIN:VEVENT
DTSTART;TZID=UTC:20170728T183000
DTEND;TZID=UTC:20170728T210000
DTSTAMP:20260422T052258
CREATED:20170811T154652Z
LAST-MODIFIED:20170811T154652Z
UID:968-1501266600-1501275600@crawley-cogs.co.uk
SUMMARY:First ever Sussex Womens' Rec. Football Festival
DESCRIPTION:Share this:Tweet
URL:https://crawley-cogs.co.uk/event/first-ever-sussex-womens-rec-football-festival/
LOCATION:Sussex County FA HQ\, Lancing\, Culver Road\, Lancing\, BN15 9AX
END:VEVENT
BEGIN:VEVENT
DTSTART;TZID=UTC:20170727T080000
DTEND;TZID=UTC:20170727T170000
DTSTAMP:20260422T052258
CREATED:20170811T155502Z
LAST-MODIFIED:20170811T155543Z
UID:975-1501142400-1501174800@crawley-cogs.co.uk
SUMMARY:Women's Euro 2017 - vs. Portugal - Training cancelled!
DESCRIPTION:Share this:Tweet
URL:https://crawley-cogs.co.uk/event/womens-euro-2017-vs-portugal-training-cancelled/
END:VEVENT
BEGIN:VEVENT
DTSTART;TZID=UTC:20170726T203000
DTEND;TZID=UTC:20170726T213000
DTSTAMP:20260422T052258
CREATED:20170811T154951Z
LAST-MODIFIED:20170811T154951Z
UID:973-1501101000-1501104600@crawley-cogs.co.uk
SUMMARY:Experienced Players' Session
DESCRIPTION:Share this:Tweet
URL:https://crawley-cogs.co.uk/event/experienced-players-session-4/
LOCATION:The People’s Pension Stadium\, Winfield Way\, Crawley\, RH10 9RX
END:VEVENT
BEGIN:VEVENT
DTSTART;TZID=UTC:20170726T193000
DTEND;TZID=UTC:20170726T203000
DTSTAMP:20260422T052258
CREATED:20170811T154848Z
LAST-MODIFIED:20170811T154848Z
UID:971-1501097400-1501101000@crawley-cogs.co.uk
SUMMARY:Beginners' Session
DESCRIPTION:Share this:Tweet
URL:https://crawley-cogs.co.uk/event/beginners-session-6/
LOCATION:The People’s Pension Stadium\, Winfield Way\, Crawley\, RH10 9RX
END:VEVENT
BEGIN:VEVENT
DTSTART;TZID=UTC:20170720T190000
DTEND;TZID=UTC:20170720T200000
DTSTAMP:20260422T052258
CREATED:20170709T132940Z
LAST-MODIFIED:20170709T132940Z
UID:773-1500577200-1500580800@crawley-cogs.co.uk
SUMMARY:Friendly Match Evening with Merstham Ladies
DESCRIPTION:Share this:Tweet
URL:https://crawley-cogs.co.uk/event/friendly-match-evening-with-merstham-ladies/
LOCATION:The People’s Pension Stadium\, Winfield Way\, Crawley\, RH10 9RX
END:VEVENT
BEGIN:VEVENT
DTSTART;TZID=UTC:20170719T203000
DTEND;TZID=UTC:20170719T213000
DTSTAMP:20260422T052258
CREATED:20170709T134437Z
LAST-MODIFIED:20170709T134437Z
UID:794-1500496200-1500499800@crawley-cogs.co.uk
SUMMARY:Experienced Players' Session
DESCRIPTION:Share this:Tweet
URL:https://crawley-cogs.co.uk/event/experienced-players-session-3/
LOCATION:The People’s Pension Stadium\, Winfield Way\, Crawley\, RH10 9RX
END:VEVENT
BEGIN:VEVENT
DTSTART;TZID=UTC:20170719T193000
DTEND;TZID=UTC:20170719T203000
DTSTAMP:20260422T052258
CREATED:20170709T134344Z
LAST-MODIFIED:20170709T134344Z
UID:792-1500492600-1500496200@crawley-cogs.co.uk
SUMMARY:Beginners' Session
DESCRIPTION:Share this:Tweet
URL:https://crawley-cogs.co.uk/event/beginners-session-5/
LOCATION:The People’s Pension Stadium\, Winfield Way\, Crawley\, RH10 9RX
END:VEVENT
BEGIN:VEVENT
DTSTART;TZID=UTC:20170713T190000
DTEND;TZID=UTC:20170713T200000
DTSTAMP:20260422T052258
CREATED:20170709T134045Z
LAST-MODIFIED:20170709T134045Z
UID:787-1499972400-1499976000@crawley-cogs.co.uk
SUMMARY:Intermediate Session (if enough)
DESCRIPTION:Share this:Tweet
URL:https://crawley-cogs.co.uk/event/intermediate-session-if-enough/
LOCATION:The People’s Pension Stadium\, Winfield Way\, Crawley\, RH10 9RX
END:VEVENT
BEGIN:VEVENT
DTSTART;TZID=UTC:20170713T183000
DTEND;TZID=UTC:20170713T220000
DTSTAMP:20260422T052258
CREATED:20170709T134229Z
LAST-MODIFIED:20170709T134229Z
UID:789-1499970600-1499983200@crawley-cogs.co.uk
SUMMARY:Charity Footgolf Tournament
DESCRIPTION:Share this:Tweet
URL:https://crawley-cogs.co.uk/event/charity-footgolf-tournament/
LOCATION:Gatwick Footgolf Burstow\, RH6 9TF
END:VEVENT
BEGIN:VEVENT
DTSTART;TZID=UTC:20170712T203000
DTEND;TZID=UTC:20170712T213000
DTSTAMP:20260422T052258
CREATED:20170709T133926Z
LAST-MODIFIED:20170709T133926Z
UID:785-1499891400-1499895000@crawley-cogs.co.uk
SUMMARY:Experienced Players' Session
DESCRIPTION:Share this:Tweet
URL:https://crawley-cogs.co.uk/event/experienced-players-session-2/
LOCATION:The People’s Pension Stadium\, Winfield Way\, Crawley\, RH10 9RX
END:VEVENT
END:VCALENDAR