BEGIN:VCALENDAR
VERSION:2.0
PRODID:-//CRAWLEY OLD GIRLS (COGS) - ECPv6.15.20//NONSGML v1.0//EN
CALSCALE:GREGORIAN
METHOD:PUBLISH
X-ORIGINAL-URL:https://crawley-cogs.co.uk
X-WR-CALDESC:Events for CRAWLEY OLD GIRLS (COGS)
REFRESH-INTERVAL;VALUE=DURATION:PT1H
X-Robots-Tag:noindex
X-PUBLISHED-TTL:PT1H
BEGIN:VTIMEZONE
TZID:UTC
BEGIN:STANDARD
TZOFFSETFROM:+0000
TZOFFSETTO:+0000
TZNAME:UTC
DTSTART:20150101T000000
END:STANDARD
END:VTIMEZONE
BEGIN:VEVENT
DTSTART;TZID=UTC:20170712T193000
DTEND;TZID=UTC:20170712T203000
DTSTAMP:20260422T100936
CREATED:20170709T133828Z
LAST-MODIFIED:20170709T133828Z
UID:783-1499887800-1499891400@crawley-cogs.co.uk
SUMMARY:Beginners' Session
DESCRIPTION:Share this:Tweet
URL:https://crawley-cogs.co.uk/event/beginners-session-4/
LOCATION:The People’s Pension Stadium\, Winfield Way\, Crawley\, RH10 9RX
END:VEVENT
BEGIN:VEVENT
DTSTART;TZID=UTC:20170710T183000
DTEND;TZID=UTC:20170710T193000
DTSTAMP:20260422T100936
CREATED:20170709T133705Z
LAST-MODIFIED:20170709T133705Z
UID:781-1499711400-1499715000@crawley-cogs.co.uk
SUMMARY:Jumpers for Goalposts
DESCRIPTION:Share this:Tweet
URL:https://crawley-cogs.co.uk/event/jumpers-for-goalposts-3/
LOCATION:Grattons Park\, Pound Hill\, RH10 3BA
END:VEVENT
BEGIN:VEVENT
DTSTART;TZID=UTC:20170706T190000
DTEND;TZID=UTC:20170706T200000
DTSTAMP:20260422T100936
CREATED:20170709T133406Z
LAST-MODIFIED:20170709T133406Z
UID:779-1499367600-1499371200@crawley-cogs.co.uk
SUMMARY:Intermediate Session
DESCRIPTION:Share this:Tweet
URL:https://crawley-cogs.co.uk/event/intermediate-session-3/
LOCATION:The People’s Pension Stadium\, Winfield Way\, Crawley\, RH10 9RX
END:VEVENT
BEGIN:VEVENT
DTSTART;TZID=UTC:20170705T203000
DTEND;TZID=UTC:20170705T213000
DTSTAMP:20260422T100936
CREATED:20170709T133300Z
LAST-MODIFIED:20170709T133300Z
UID:777-1499286600-1499290200@crawley-cogs.co.uk
SUMMARY:Experienced Players' Session
DESCRIPTION:Share this:Tweet
URL:https://crawley-cogs.co.uk/event/experienced-players-session/
LOCATION:The People’s Pension Stadium\, Winfield Way\, Crawley\, RH10 9RX
END:VEVENT
BEGIN:VEVENT
DTSTART;TZID=UTC:20170705T193000
DTEND;TZID=UTC:20170705T203000
DTSTAMP:20260422T100936
CREATED:20170709T133154Z
LAST-MODIFIED:20170709T133154Z
UID:775-1499283000-1499286600@crawley-cogs.co.uk
SUMMARY:Beginners' Session
DESCRIPTION:Share this:Tweet
URL:https://crawley-cogs.co.uk/event/beginners-session-3/
LOCATION:The People’s Pension Stadium\, Winfield Way\, Crawley\, RH10 9RX
END:VEVENT
BEGIN:VEVENT
DTSTART;VALUE=DATE:20170702
DTEND;VALUE=DATE:20170703
DTSTAMP:20260422T100936
CREATED:20170610T221148Z
LAST-MODIFIED:20170610T221148Z
UID:337-1498953600-1499039999@crawley-cogs.co.uk
SUMMARY:Dick\, Kerr Ladies' Walking Football Tournament
DESCRIPTION:Share this:Tweet
URL:https://crawley-cogs.co.uk/event/dick-kerr-ladies-walking-football-tournament/
LOCATION:UCLan Sports Arena\, Preston\, Lancashire
END:VEVENT
BEGIN:VEVENT
DTSTART;TZID=UTC:20170629T190000
DTEND;TZID=UTC:20170629T200000
DTSTAMP:20260422T100936
CREATED:20170625T180414Z
LAST-MODIFIED:20170625T180414Z
UID:588-1498762800-1498766400@crawley-cogs.co.uk
SUMMARY:Intermediate Session
DESCRIPTION:Share this:Tweet
URL:https://crawley-cogs.co.uk/event/intermediate-session-2/
LOCATION:The People’s Pension Stadium\, Winfield Way\, Crawley\, RH10 9RX
END:VEVENT
BEGIN:VEVENT
DTSTART;TZID=UTC:20170628T203000
DTEND;TZID=UTC:20170628T213000
DTSTAMP:20260422T100936
CREATED:20170625T180520Z
LAST-MODIFIED:20170625T180520Z
UID:591-1498681800-1498685400@crawley-cogs.co.uk
SUMMARY:Ex-Players' Session
DESCRIPTION:Share this:Tweet
URL:https://crawley-cogs.co.uk/event/ex-players-session-2/
LOCATION:The People’s Pension Stadium\, Winfield Way\, Crawley\, RH10 9RX
END:VEVENT
BEGIN:VEVENT
DTSTART;TZID=UTC:20170628T193000
DTEND;TZID=UTC:20170628T203000
DTSTAMP:20260422T100936
CREATED:20170625T161522Z
LAST-MODIFIED:20170625T161522Z
UID:586-1498678200-1498681800@crawley-cogs.co.uk
SUMMARY:Beginners' Session
DESCRIPTION:Share this:Tweet
URL:https://crawley-cogs.co.uk/event/beginners-session-2/
LOCATION:The People’s Pension Stadium\, Winfield Way\, Crawley\, RH10 9RX
END:VEVENT
BEGIN:VEVENT
DTSTART;TZID=UTC:20170626T183000
DTEND;TZID=UTC:20170626T193000
DTSTAMP:20260422T100936
CREATED:20170625T103802Z
LAST-MODIFIED:20170625T103802Z
UID:504-1498501800-1498505400@crawley-cogs.co.uk
SUMMARY:Jumpers for Goalposts
DESCRIPTION:Share this:Tweet
URL:https://crawley-cogs.co.uk/event/jumpers-for-goalposts-2/
LOCATION:Grattons Park\, Pound Hill\, RH10 3BA
END:VEVENT
BEGIN:VEVENT
DTSTART;TZID=UTC:20170624T123000
DTEND;TZID=UTC:20170624T153000
DTSTAMP:20260422T100936
CREATED:20170610T221601Z
LAST-MODIFIED:20170610T221601Z
UID:340-1498307400-1498318200@crawley-cogs.co.uk
SUMMARY:Mums' Recreational Tournament
DESCRIPTION:Share this:Tweet
URL:https://crawley-cogs.co.uk/event/mums-recreational-tournament/
LOCATION:Whyteleafe FC
END:VEVENT
BEGIN:VEVENT
DTSTART;TZID=UTC:20170622T190000
DTEND;TZID=UTC:20170622T200000
DTSTAMP:20260422T100936
CREATED:20170610T222038Z
LAST-MODIFIED:20170610T222038Z
UID:346-1498158000-1498161600@crawley-cogs.co.uk
SUMMARY:Intermediate Session
DESCRIPTION:Share this:Tweet
URL:https://crawley-cogs.co.uk/event/intermediate-session/
LOCATION:The People’s Pension Stadium\, Winfield Way\, Crawley\, RH10 9RX
END:VEVENT
BEGIN:VEVENT
DTSTART;TZID=UTC:20170621T203000
DTEND;TZID=UTC:20170621T213000
DTSTAMP:20260422T100936
CREATED:20170610T222236Z
LAST-MODIFIED:20170610T222236Z
UID:348-1498077000-1498080600@crawley-cogs.co.uk
SUMMARY:Ex-Players' Session
DESCRIPTION:Share this:Tweet
URL:https://crawley-cogs.co.uk/event/ex-players-session/
LOCATION:The People’s Pension Stadium\, Winfield Way\, Crawley\, RH10 9RX
END:VEVENT
BEGIN:VEVENT
DTSTART;TZID=UTC:20170621T193000
DTEND;TZID=UTC:20170621T203000
DTSTAMP:20260422T100936
CREATED:20170610T221809Z
LAST-MODIFIED:20170610T221809Z
UID:343-1498073400-1498077000@crawley-cogs.co.uk
SUMMARY:Beginners' Session
DESCRIPTION:Share this:Tweet
URL:https://crawley-cogs.co.uk/event/beginners-session/
LOCATION:The People’s Pension Stadium\, Winfield Way\, Crawley\, RH10 9RX
END:VEVENT
BEGIN:VEVENT
DTSTART;TZID=UTC:20170619T183000
DTEND;TZID=UTC:20170619T193000
DTSTAMP:20260422T100936
CREATED:20170612T180409Z
LAST-MODIFIED:20170612T180409Z
UID:389-1497897000-1497900600@crawley-cogs.co.uk
SUMMARY:Jumpers for Goalposts
DESCRIPTION:Share this:Tweet
URL:https://crawley-cogs.co.uk/event/jumpers-for-goalposts/
END:VEVENT
BEGIN:VEVENT
DTSTART;VALUE=DATE:20160731
DTEND;VALUE=DATE:20160801
DTSTAMP:20260422T100936
CREATED:20170528T131943Z
LAST-MODIFIED:20170528T132608Z
UID:228-1469923200-1470009599@crawley-cogs.co.uk
SUMMARY:EFL Trust First Ever Over 35s' Tournament - Wembley - 31st July 2016.
DESCRIPTION:Share this:Tweet
URL:https://crawley-cogs.co.uk/event/efl-trust-first-ever-over-35s-tournament-wembley-31st-july-2016/
LOCATION:Wembley Powerleague\, United Kingdom
END:VEVENT
END:VCALENDAR