BEGIN:VCALENDAR
VERSION:2.0
PRODID:-//CRAWLEY OLD GIRLS (COGS) - ECPv6.15.20//NONSGML v1.0//EN
CALSCALE:GREGORIAN
METHOD:PUBLISH
X-ORIGINAL-URL:https://crawley-cogs.co.uk
X-WR-CALDESC:Events for CRAWLEY OLD GIRLS (COGS)
REFRESH-INTERVAL;VALUE=DURATION:PT1H
X-Robots-Tag:noindex
X-PUBLISHED-TTL:PT1H
BEGIN:VTIMEZONE
TZID:UTC
BEGIN:STANDARD
TZOFFSETFROM:+0000
TZOFFSETTO:+0000
TZNAME:UTC
DTSTART:20170101T000000
END:STANDARD
END:VTIMEZONE
BEGIN:VEVENT
DTSTART;TZID=UTC:20180324T140000
DTEND;TZID=UTC:20180324T170000
DTSTAMP:20260421T130454
CREATED:20180318T225237Z
LAST-MODIFIED:20180318T225237Z
UID:1534-1521900000-1521910800@crawley-cogs.co.uk
SUMMARY:FA People's Cup Semi Finals - Goals Wimbledon
DESCRIPTION:Share this:Tweet
URL:https://crawley-cogs.co.uk/event/fa-peoples-cup-semi-finals-goals-wimbledon/
LOCATION:Goals Wimbledon
END:VEVENT
BEGIN:VEVENT
DTSTART;TZID=UTC:20180323T170000
DTEND;TZID=UTC:20180323T183000
DTSTAMP:20260421T130454
CREATED:20180318T225405Z
LAST-MODIFIED:20180318T225405Z
UID:1537-1521824400-1521829800@crawley-cogs.co.uk
SUMMARY:Sport Relief - 5Live a side vs. Robbie Savage's Allstars
DESCRIPTION:Share this:Tweet
URL:https://crawley-cogs.co.uk/event/sport-relief-5live-a-side-vs-robbie-savages-allstars/
LOCATION:Media City UK\, Manchester
END:VEVENT
BEGIN:VEVENT
DTSTART;TZID=UTC:20180322T190000
DTEND;TZID=UTC:20180322T200000
DTSTAMP:20260421T130454
CREATED:20180320T232209Z
LAST-MODIFIED:20180320T232209Z
UID:1621-1521745200-1521748800@crawley-cogs.co.uk
SUMMARY:Sport Relief Inter COGS' Tournament
DESCRIPTION:Share this:Tweet
URL:https://crawley-cogs.co.uk/event/sport-relief-inter-cogs-tournament/
LOCATION:The People’s Pension Stadium\, Winfield Way\, Crawley\, RH10 9RX
END:VEVENT
BEGIN:VEVENT
DTSTART;TZID=UTC:20180321T080000
DTEND;TZID=UTC:20180321T170000
DTSTAMP:20260421T130454
CREATED:20180320T232100Z
LAST-MODIFIED:20180320T232126Z
UID:1619-1521619200-1521651600@crawley-cogs.co.uk
SUMMARY:No Session due to Crawley vs. Wycombe
DESCRIPTION:Share this:Tweet
URL:https://crawley-cogs.co.uk/event/no-session-due-to-crawley-vs-wycombe/
LOCATION:The People’s Pension Stadium\, Winfield Way\, Crawley\, RH10 9RX
END:VEVENT
BEGIN:VEVENT
DTSTART;TZID=UTC:20180315T190000
DTEND;TZID=UTC:20180315T200000
DTSTAMP:20260421T130454
CREATED:20180320T232024Z
LAST-MODIFIED:20180320T232024Z
UID:1617-1521140400-1521144000@crawley-cogs.co.uk
SUMMARY:Intermediate Session
DESCRIPTION:Share this:Tweet
URL:https://crawley-cogs.co.uk/event/intermediate-session-31/
LOCATION:The People’s Pension Stadium\, Winfield Way\, Crawley\, RH10 9RX
END:VEVENT
BEGIN:VEVENT
DTSTART;TZID=UTC:20180314T203000
DTEND;TZID=UTC:20180314T213000
DTSTAMP:20260421T130454
CREATED:20180320T231938Z
LAST-MODIFIED:20180320T231938Z
UID:1615-1521059400-1521063000@crawley-cogs.co.uk
SUMMARY:Advanced Session
DESCRIPTION:Share this:Tweet
URL:https://crawley-cogs.co.uk/event/advanced-session-8/
LOCATION:The People’s Pension Stadium\, Winfield Way\, Crawley\, RH10 9RX
END:VEVENT
BEGIN:VEVENT
DTSTART;TZID=UTC:20180314T193000
DTEND;TZID=UTC:20180314T203000
DTSTAMP:20260421T130454
CREATED:20180320T231904Z
LAST-MODIFIED:20180320T231904Z
UID:1612-1521055800-1521059400@crawley-cogs.co.uk
SUMMARY:Beginners' Session
DESCRIPTION:Share this:Tweet
URL:https://crawley-cogs.co.uk/event/beginners-session-35/
LOCATION:The People’s Pension Stadium\, Winfield Way\, Crawley\, RH10 9RX
END:VEVENT
BEGIN:VEVENT
DTSTART;TZID=UTC:20180310T110000
DTEND;TZID=UTC:20180310T143000
DTSTAMP:20260421T130454
CREATED:20180320T231206Z
LAST-MODIFIED:20180320T231206Z
UID:1602-1520679600-1520692200@crawley-cogs.co.uk
SUMMARY:Surrey FA Women's Rec. 5 a-side Tournament
DESCRIPTION:Share this:Tweet
URL:https://crawley-cogs.co.uk/event/surrey-fa-womens-rec-5-a-side-tournament/
LOCATION:The People’s Pension Stadium\, Winfield Way\, Crawley\, RH10 9RX
END:VEVENT
BEGIN:VEVENT
DTSTART;TZID=UTC:20180308T200000
DTEND;TZID=UTC:20180308T220000
DTSTAMP:20260421T130454
CREATED:20180320T232521Z
LAST-MODIFIED:20180320T232521Z
UID:1629-1520539200-1520546400@crawley-cogs.co.uk
SUMMARY:First WRFF Meeting
DESCRIPTION:Share this:Tweet
URL:https://crawley-cogs.co.uk/event/first-wrff-meeting/
LOCATION:The People’s Pension Stadium\, Winfield Way\, Crawley\, RH10 9RX
END:VEVENT
BEGIN:VEVENT
DTSTART;TZID=UTC:20180308T190000
DTEND;TZID=UTC:20180308T200000
DTSTAMP:20260421T130454
CREATED:20180320T231514Z
LAST-MODIFIED:20180320T231514Z
UID:1608-1520535600-1520539200@crawley-cogs.co.uk
SUMMARY:Intermediate Session
DESCRIPTION:Share this:Tweet
URL:https://crawley-cogs.co.uk/event/intermediate-session-30/
LOCATION:The People’s Pension Stadium\, Winfield Way\, Crawley\, RH10 9RX
END:VEVENT
BEGIN:VEVENT
DTSTART;TZID=UTC:20180307T203000
DTEND;TZID=UTC:20180307T213000
DTSTAMP:20260421T130454
CREATED:20180320T231432Z
LAST-MODIFIED:20180320T231432Z
UID:1606-1520454600-1520458200@crawley-cogs.co.uk
SUMMARY:Advanced Session
DESCRIPTION:Share this:Tweet
URL:https://crawley-cogs.co.uk/event/advanced-session-7/
LOCATION:The People’s Pension Stadium\, Winfield Way\, Crawley\, RH10 9RX
END:VEVENT
BEGIN:VEVENT
DTSTART;TZID=UTC:20180307T193000
DTEND;TZID=UTC:20180307T203000
DTSTAMP:20260421T130454
CREATED:20180320T231350Z
LAST-MODIFIED:20180320T231350Z
UID:1604-1520451000-1520454600@crawley-cogs.co.uk
SUMMARY:Beginners' Session
DESCRIPTION:Share this:Tweet
URL:https://crawley-cogs.co.uk/event/beginners-session-34/
LOCATION:The People’s Pension Stadium\, Winfield Way\, Crawley\, RH10 9RX
END:VEVENT
BEGIN:VEVENT
DTSTART;TZID=UTC:20180301T190000
DTEND;TZID=UTC:20180301T200000
DTSTAMP:20260421T130454
CREATED:20180320T230954Z
LAST-MODIFIED:20180320T230954Z
UID:1600-1519930800-1519934400@crawley-cogs.co.uk
SUMMARY:Intermediate Session
DESCRIPTION:Share this:Tweet
URL:https://crawley-cogs.co.uk/event/intermediate-session-29/
LOCATION:The People’s Pension Stadium\, Winfield Way\, Crawley\, RH10 9RX
END:VEVENT
BEGIN:VEVENT
DTSTART;TZID=UTC:20180228T203000
DTEND;TZID=UTC:20180228T213000
DTSTAMP:20260421T130454
CREATED:20180320T230841Z
LAST-MODIFIED:20180320T230841Z
UID:1598-1519849800-1519853400@crawley-cogs.co.uk
SUMMARY:Advanced Session
DESCRIPTION:Share this:Tweet
URL:https://crawley-cogs.co.uk/event/advanced-session-6/
LOCATION:The People’s Pension Stadium\, Winfield Way\, Crawley\, RH10 9RX
END:VEVENT
BEGIN:VEVENT
DTSTART;TZID=UTC:20180228T193000
DTEND;TZID=UTC:20180228T203000
DTSTAMP:20260421T130454
CREATED:20180320T230754Z
LAST-MODIFIED:20180320T230754Z
UID:1596-1519846200-1519849800@crawley-cogs.co.uk
SUMMARY:Beginners' Session
DESCRIPTION:Share this:Tweet
URL:https://crawley-cogs.co.uk/event/beginners-session-33/
LOCATION:The People’s Pension Stadium\, Winfield Way\, Crawley\, RH10 9RX
END:VEVENT
BEGIN:VEVENT
DTSTART;TZID=UTC:20180224T080000
DTEND;TZID=UTC:20180224T170000
DTSTAMP:20260421T130454
CREATED:20180106T000406Z
LAST-MODIFIED:20180106T000406Z
UID:1405-1519459200-1519491600@crawley-cogs.co.uk
SUMMARY:1st Round of FA People's Cup
DESCRIPTION:Share this:Tweet
URL:https://crawley-cogs.co.uk/event/1st-round-of-fa-peoples-cup/
END:VEVENT
BEGIN:VEVENT
DTSTART;TZID=UTC:20180222T190000
DTEND;TZID=UTC:20180222T200000
DTSTAMP:20260421T130454
CREATED:20180320T230702Z
LAST-MODIFIED:20180320T230702Z
UID:1594-1519326000-1519329600@crawley-cogs.co.uk
SUMMARY:Intermediate Session
DESCRIPTION:Share this:Tweet
URL:https://crawley-cogs.co.uk/event/intermediate-session-28/
LOCATION:The People’s Pension Stadium\, Winfield Way\, Crawley\, RH10 9RX
END:VEVENT
BEGIN:VEVENT
DTSTART;TZID=UTC:20180221T203000
DTEND;TZID=UTC:20180221T213000
DTSTAMP:20260421T130454
CREATED:20180320T230552Z
LAST-MODIFIED:20180320T230552Z
UID:1592-1519245000-1519248600@crawley-cogs.co.uk
SUMMARY:Advanced Session
DESCRIPTION:Share this:Tweet
URL:https://crawley-cogs.co.uk/event/advanced-session-5/
LOCATION:The People’s Pension Stadium\, Winfield Way\, Crawley\, RH10 9RX
END:VEVENT
BEGIN:VEVENT
DTSTART;TZID=UTC:20180221T193000
DTEND;TZID=UTC:20180221T203000
DTSTAMP:20260421T130454
CREATED:20180320T230415Z
LAST-MODIFIED:20180320T230415Z
UID:1590-1519241400-1519245000@crawley-cogs.co.uk
SUMMARY:Beginners' Session
DESCRIPTION:Share this:Tweet
URL:https://crawley-cogs.co.uk/event/beginners-session-32/
LOCATION:The People’s Pension Stadium\, Winfield Way\, Crawley\, RH10 9RX
END:VEVENT
BEGIN:VEVENT
DTSTART;TZID=UTC:20180215T190000
DTEND;TZID=UTC:20180215T200000
DTSTAMP:20260421T130454
CREATED:20180320T230328Z
LAST-MODIFIED:20180320T230328Z
UID:1588-1518721200-1518724800@crawley-cogs.co.uk
SUMMARY:Intermediate Session
DESCRIPTION:Share this:Tweet
URL:https://crawley-cogs.co.uk/event/intermediate-session-27/
LOCATION:The People’s Pension Stadium\, Winfield Way\, Crawley\, RH10 9RX
END:VEVENT
BEGIN:VEVENT
DTSTART;TZID=UTC:20180214T203000
DTEND;TZID=UTC:20180214T213000
DTSTAMP:20260421T130454
CREATED:20180320T230253Z
LAST-MODIFIED:20180320T230253Z
UID:1586-1518640200-1518643800@crawley-cogs.co.uk
SUMMARY:Advanced Session
DESCRIPTION:Share this:Tweet
URL:https://crawley-cogs.co.uk/event/advanced-session-4/
LOCATION:The People’s Pension Stadium\, Winfield Way\, Crawley\, RH10 9RX
END:VEVENT
BEGIN:VEVENT
DTSTART;TZID=UTC:20180214T193000
DTEND;TZID=UTC:20180214T203000
DTSTAMP:20260421T130454
CREATED:20180320T230218Z
LAST-MODIFIED:20180320T230218Z
UID:1584-1518636600-1518640200@crawley-cogs.co.uk
SUMMARY:Beginners' Session
DESCRIPTION:Share this:Tweet
URL:https://crawley-cogs.co.uk/event/beginners-session-31/
LOCATION:The People’s Pension Stadium\, Winfield Way\, Crawley\, RH10 9RX
END:VEVENT
BEGIN:VEVENT
DTSTART;TZID=UTC:20180212T080000
DTEND;TZID=UTC:20180212T170000
DTSTAMP:20260421T130454
CREATED:20180320T230116Z
LAST-MODIFIED:20180320T230116Z
UID:1581-1518422400-1518454800@crawley-cogs.co.uk
SUMMARY:EFL Trust 10th Anniversary Celebration
DESCRIPTION:Carol Bates and Amy Fazackerley were asked to attend the EFL Trust 10th Anniversary.  Carol was invited to talk about the COGS as 1 of 4 programmes which were being showcased for the 10th Anniversary Event. \nGuests included Shaun Harvey and Hayley McQueen\, who interviewed Carol. \nShare this:Tweet
URL:https://crawley-cogs.co.uk/event/efl-trust-10th-anniversary-celebration/
LOCATION:EFL House\, Preston
END:VEVENT
BEGIN:VEVENT
DTSTART;TZID=UTC:20180208T190000
DTEND;TZID=UTC:20180208T200000
DTSTAMP:20260421T130454
CREATED:20180320T225743Z
LAST-MODIFIED:20180320T225743Z
UID:1579-1518116400-1518120000@crawley-cogs.co.uk
SUMMARY:Intermediate Session
DESCRIPTION:Share this:Tweet
URL:https://crawley-cogs.co.uk/event/intermediate-session-26/
LOCATION:The People’s Pension Stadium\, Winfield Way\, Crawley\, RH10 9RX
END:VEVENT
BEGIN:VEVENT
DTSTART;TZID=UTC:20180207T203000
DTEND;TZID=UTC:20180207T213000
DTSTAMP:20260421T130454
CREATED:20180320T224625Z
LAST-MODIFIED:20180320T224625Z
UID:1577-1518035400-1518039000@crawley-cogs.co.uk
SUMMARY:Advanced Session
DESCRIPTION:Share this:Tweet
URL:https://crawley-cogs.co.uk/event/advanced-session-3/
LOCATION:The People’s Pension Stadium\, Winfield Way\, Crawley\, RH10 9RX
END:VEVENT
BEGIN:VEVENT
DTSTART;TZID=UTC:20180207T193000
DTEND;TZID=UTC:20180207T203000
DTSTAMP:20260421T130454
CREATED:20180320T224543Z
LAST-MODIFIED:20180320T224543Z
UID:1575-1518031800-1518035400@crawley-cogs.co.uk
SUMMARY:Beginners' Session
DESCRIPTION:Share this:Tweet
URL:https://crawley-cogs.co.uk/event/beginners-session-30/
LOCATION:The People’s Pension Stadium\, Winfield Way\, Crawley\, RH10 9RX
END:VEVENT
BEGIN:VEVENT
DTSTART;TZID=UTC:20180201T190000
DTEND;TZID=UTC:20180201T200000
DTSTAMP:20260421T130454
CREATED:20180320T224317Z
LAST-MODIFIED:20180320T224317Z
UID:1571-1517511600-1517515200@crawley-cogs.co.uk
SUMMARY:Intermediate Session
DESCRIPTION:Share this:Tweet
URL:https://crawley-cogs.co.uk/event/intermediate-session-25/
LOCATION:The People’s Pension Stadium\, Winfield Way\, Crawley\, RH10 9RX
END:VEVENT
BEGIN:VEVENT
DTSTART;TZID=UTC:20180131T203000
DTEND;TZID=UTC:20180131T213000
DTSTAMP:20260421T130454
CREATED:20180320T224149Z
LAST-MODIFIED:20180320T224149Z
UID:1569-1517430600-1517434200@crawley-cogs.co.uk
SUMMARY:Advanced Session
DESCRIPTION:Share this:Tweet
URL:https://crawley-cogs.co.uk/event/advanced-session-2/
LOCATION:The People’s Pension Stadium\, Winfield Way\, Crawley\, RH10 9RX
END:VEVENT
BEGIN:VEVENT
DTSTART;TZID=UTC:20180131T193000
DTEND;TZID=UTC:20180131T203000
DTSTAMP:20260421T130454
CREATED:20180320T224108Z
LAST-MODIFIED:20180320T224108Z
UID:1567-1517427000-1517430600@crawley-cogs.co.uk
SUMMARY:Beginners' Session
DESCRIPTION:Share this:Tweet
URL:https://crawley-cogs.co.uk/event/beginners-session-29/
LOCATION:The People’s Pension Stadium\, Winfield Way\, Crawley\, RH10 9RX
END:VEVENT
BEGIN:VEVENT
DTSTART;TZID=UTC:20180126T080000
DTEND;TZID=UTC:20180126T170000
DTSTAMP:20260421T130454
CREATED:20180320T223706Z
LAST-MODIFIED:20180320T223706Z
UID:1559-1516953600-1516986000@crawley-cogs.co.uk
SUMMARY:BBC Sport Visit - FA People's Cup - Manchester
DESCRIPTION:Carol Bates was asked to go to Manchester to help the FA & BBC Sport/BBC Get Inspired promote the FA People’s Cup.  Interviews with BBC DJ Nick Bright including a Facebook Live event were recorded. \nShare this:Tweet
URL:https://crawley-cogs.co.uk/event/bbc-sport-visit-fa-peoples-cup-manchester/
LOCATION:Media City UK\, Manchester
END:VEVENT
END:VCALENDAR